BEGIN:VCALENDAR
VERSION:2.0
PRODID:-//Northwestern Ontario Métis Child and Family Services - ECPv6.15.13//NONSGML v1.0//EN
CALSCALE:GREGORIAN
METHOD:PUBLISH
X-WR-CALNAME:Northwestern Ontario Métis Child and Family Services
X-ORIGINAL-URL:https://www.nwomcfs.ca
X-WR-CALDESC:Events for Northwestern Ontario Métis Child and Family Services
REFRESH-INTERVAL;VALUE=DURATION:PT1H
X-Robots-Tag:noindex
X-PUBLISHED-TTL:PT1H
BEGIN:VTIMEZONE
TZID:America/Winnipeg
BEGIN:DAYLIGHT
TZOFFSETFROM:-0600
TZOFFSETTO:-0500
TZNAME:CDT
DTSTART:20250309T080000
END:DAYLIGHT
BEGIN:STANDARD
TZOFFSETFROM:-0500
TZOFFSETTO:-0600
TZNAME:CST
DTSTART:20251102T070000
END:STANDARD
BEGIN:DAYLIGHT
TZOFFSETFROM:-0600
TZOFFSETTO:-0500
TZNAME:CDT
DTSTART:20260308T080000
END:DAYLIGHT
BEGIN:STANDARD
TZOFFSETFROM:-0500
TZOFFSETTO:-0600
TZNAME:CST
DTSTART:20261101T070000
END:STANDARD
BEGIN:DAYLIGHT
TZOFFSETFROM:-0600
TZOFFSETTO:-0500
TZNAME:CDT
DTSTART:20270314T080000
END:DAYLIGHT
BEGIN:STANDARD
TZOFFSETFROM:-0500
TZOFFSETTO:-0600
TZNAME:CST
DTSTART:20271107T070000
END:STANDARD
END:VTIMEZONE
BEGIN:VEVENT
DTSTART;TZID=America/Winnipeg:20260401T183000
DTEND;TZID=America/Winnipeg:20260401T200000
DTSTAMP:20260423T181446
CREATED:20260318T050001Z
LAST-MODIFIED:20260318T161944Z
UID:10006462-1775068200-1775073600@www.nwomcfs.ca
SUMMARY:Dryden - Métis Families!  Food BINGO
DESCRIPTION:
URL:https://www.nwomcfs.ca/events/10399/
LOCATION:ZOOM\, Canada
CATEGORIES:Dryden
ORGANIZER;CN="Amanda Lupien":MAILTO:amanda,lupien@nwomcfs.ca
END:VEVENT
BEGIN:VEVENT
DTSTART;TZID=America/Winnipeg:20260325T180000
DTEND;TZID=America/Winnipeg:20260325T200000
DTSTAMP:20260423T181446
CREATED:20260311T143057Z
LAST-MODIFIED:20260311T161927Z
UID:10006450-1774461600-1774468800@www.nwomcfs.ca
SUMMARY:Join your Métis Community for Virtual Cooking - Crêpes
DESCRIPTION:Please register by clicking here => https://forms.gle/81R3gJtXRmWj1eet5
URL:https://www.nwomcfs.ca/events/join-your-metis-community-for-virtual-cooking/
LOCATION:ZOOM\, Canada
CATEGORIES:Atikokan,Dryden,Fort Frances,Kenora
ORGANIZER;CN="Charmaine Langlais":MAILTO:Charmaine.Langlais@nwomcfs.ca
END:VEVENT
END:VCALENDAR