BEGIN:VCALENDAR
VERSION:2.0
PRODID:-//Northwestern Ontario Métis Child and Family Services - ECPv6.15.13//NONSGML v1.0//EN
CALSCALE:GREGORIAN
METHOD:PUBLISH
X-WR-CALNAME:Northwestern Ontario Métis Child and Family Services
X-ORIGINAL-URL:https://www.nwomcfs.ca
X-WR-CALDESC:Events for Northwestern Ontario Métis Child and Family Services
REFRESH-INTERVAL;VALUE=DURATION:PT1H
X-Robots-Tag:noindex
X-PUBLISHED-TTL:PT1H
BEGIN:VTIMEZONE
TZID:America/Winnipeg
BEGIN:DAYLIGHT
TZOFFSETFROM:-0600
TZOFFSETTO:-0500
TZNAME:CDT
DTSTART:20250309T080000
END:DAYLIGHT
BEGIN:STANDARD
TZOFFSETFROM:-0500
TZOFFSETTO:-0600
TZNAME:CST
DTSTART:20251102T070000
END:STANDARD
BEGIN:DAYLIGHT
TZOFFSETFROM:-0600
TZOFFSETTO:-0500
TZNAME:CDT
DTSTART:20260308T080000
END:DAYLIGHT
BEGIN:STANDARD
TZOFFSETFROM:-0500
TZOFFSETTO:-0600
TZNAME:CST
DTSTART:20261101T070000
END:STANDARD
BEGIN:DAYLIGHT
TZOFFSETFROM:-0600
TZOFFSETTO:-0500
TZNAME:CDT
DTSTART:20270314T080000
END:DAYLIGHT
BEGIN:STANDARD
TZOFFSETFROM:-0500
TZOFFSETTO:-0600
TZNAME:CST
DTSTART:20271107T070000
END:STANDARD
END:VTIMEZONE
BEGIN:VEVENT
DTSTART;TZID=America/Winnipeg:20260424T120000
DTEND;TZID=America/Winnipeg:20260424T130000
DTSTAMP:20260423T135959
CREATED:20260330T210121Z
LAST-MODIFIED:20260415T173630Z
UID:10006501-1777032000-1777035600@www.nwomcfs.ca
SUMMARY:Fort Frances - Join Your Métis Community for Lunchtime Yoga
DESCRIPTION:
URL:https://www.nwomcfs.ca/events/fort-frances-join-your-metis-community-for-lunchtime-yoga/2026-04-24/
LOCATION:FFR NWOMCFS Office\, 815 Williams Ave\, Fort Frances\, ON\, Canada
CATEGORIES:Fort Frances
ORGANIZER;CN="Emily Hyatt":MAILTO:Emily.Hyatt@nwomcfs.ca
END:VEVENT
BEGIN:VEVENT
DTSTART;TZID=America/Winnipeg:20260425T130000
DTEND;TZID=America/Winnipeg:20260425T150000
DTSTAMP:20260423T135959
CREATED:20260411T195213Z
LAST-MODIFIED:20260402T210747Z
UID:10006511-1777122000-1777129200@www.nwomcfs.ca
SUMMARY:Fort Frances - You are invited to a Métis Family Tea Party
DESCRIPTION:
URL:https://www.nwomcfs.ca/events/fort-frances-tea-party/
LOCATION:FFR NWOMCFS Office\, 815 Williams Ave\, Fort Frances\, ON\, Canada
CATEGORIES:Fort Frances
ORGANIZER;CN="Emily Hyatt":MAILTO:Emily.Hyatt@nwomcfs.ca
END:VEVENT
BEGIN:VEVENT
DTSTART;TZID=America/Winnipeg:20260429T140000
DTEND;TZID=America/Winnipeg:20260429T160000
DTSTAMP:20260423T135959
CREATED:20260331T143309Z
LAST-MODIFIED:20260331T143309Z
UID:10006506-1777471200-1777478400@www.nwomcfs.ca
SUMMARY:Fort Frances\, Drop in Beading.
DESCRIPTION:
URL:https://www.nwomcfs.ca/events/fort-frances-drop-in-beading/2026-04-29/
LOCATION:FFR NWOMCFS Office\, 815 Williams Ave\, Fort Frances\, ON\, Canada
CATEGORIES:Fort Frances
ORGANIZER;CN="Emily Hyatt":MAILTO:Emily.Hyatt@nwomcfs.ca
END:VEVENT
BEGIN:VEVENT
DTSTART;TZID=America/Winnipeg:20260501T080000
DTEND;TZID=America/Winnipeg:20260531T170000
DTSTAMP:20260423T135959
CREATED:20260417T211833Z
LAST-MODIFIED:20260415T173514Z
UID:10006526-1777622400-1780246800@www.nwomcfs.ca
SUMMARY:Fort Frances-Aquafit and Lane Swim
DESCRIPTION:
URL:https://www.nwomcfs.ca/events/fort-frances-aquafit-and-lane-swim/
LOCATION:Fort Frances Memorial Arena\, 740 Scott Street\, Fort Frances\, ON\, P9A 1H8\, Canada
CATEGORIES:Fort Frances
ORGANIZER;CN="Emily Hyatt":MAILTO:Emily.Hyatt@nwomcfs.ca
END:VEVENT
BEGIN:VEVENT
DTSTART;TZID=America/Winnipeg:20260506T140000
DTEND;TZID=America/Winnipeg:20260506T160000
DTSTAMP:20260423T135959
CREATED:20260421T192325Z
LAST-MODIFIED:20260422T143714Z
UID:10006622-1778076000-1778083200@www.nwomcfs.ca
SUMMARY:Fort Frances - Drop in Beading
DESCRIPTION:
URL:https://www.nwomcfs.ca/events/fort-frances-drop-in-beading-2/2026-05-06/
LOCATION:FFR NWOMCFS Office\, 815 Williams Ave\, Fort Frances\, ON\, Canada
CATEGORIES:Fort Frances
ORGANIZER;CN="Emily Hyatt":MAILTO:Emily.Hyatt@nwomcfs.ca
END:VEVENT
BEGIN:VEVENT
DTSTART;TZID=America/Winnipeg:20260513T140000
DTEND;TZID=America/Winnipeg:20260513T160000
DTSTAMP:20260423T135959
CREATED:20260421T192325Z
LAST-MODIFIED:20260422T143714Z
UID:10006623-1778680800-1778688000@www.nwomcfs.ca
SUMMARY:Fort Frances - Drop in Beading
DESCRIPTION:
URL:https://www.nwomcfs.ca/events/fort-frances-drop-in-beading-2/2026-05-13/
LOCATION:FFR NWOMCFS Office\, 815 Williams Ave\, Fort Frances\, ON\, Canada
CATEGORIES:Fort Frances
ORGANIZER;CN="Emily Hyatt":MAILTO:Emily.Hyatt@nwomcfs.ca
END:VEVENT
BEGIN:VEVENT
DTSTART;TZID=America/Winnipeg:20260520T140000
DTEND;TZID=America/Winnipeg:20260520T160000
DTSTAMP:20260423T135959
CREATED:20260421T192325Z
LAST-MODIFIED:20260422T143714Z
UID:10006624-1779285600-1779292800@www.nwomcfs.ca
SUMMARY:Fort Frances - Drop in Beading
DESCRIPTION:
URL:https://www.nwomcfs.ca/events/fort-frances-drop-in-beading-2/2026-05-20/
LOCATION:FFR NWOMCFS Office\, 815 Williams Ave\, Fort Frances\, ON\, Canada
CATEGORIES:Fort Frances
ORGANIZER;CN="Emily Hyatt":MAILTO:Emily.Hyatt@nwomcfs.ca
END:VEVENT
BEGIN:VEVENT
DTSTART;TZID=America/Winnipeg:20260527T140000
DTEND;TZID=America/Winnipeg:20260527T160000
DTSTAMP:20260423T135959
CREATED:20260421T192325Z
LAST-MODIFIED:20260422T143714Z
UID:10006625-1779890400-1779897600@www.nwomcfs.ca
SUMMARY:Fort Frances - Drop in Beading
DESCRIPTION:
URL:https://www.nwomcfs.ca/events/fort-frances-drop-in-beading-2/2026-05-27/
LOCATION:FFR NWOMCFS Office\, 815 Williams Ave\, Fort Frances\, ON\, Canada
CATEGORIES:Fort Frances
ORGANIZER;CN="Emily Hyatt":MAILTO:Emily.Hyatt@nwomcfs.ca
END:VEVENT
END:VCALENDAR