BEGIN:VCALENDAR
VERSION:2.0
PRODID:-//Northwestern Ontario Métis Child and Family Services - ECPv6.15.13//NONSGML v1.0//EN
CALSCALE:GREGORIAN
METHOD:PUBLISH
X-ORIGINAL-URL:https://www.nwomcfs.ca
X-WR-CALDESC:Events for Northwestern Ontario Métis Child and Family Services
REFRESH-INTERVAL;VALUE=DURATION:PT1H
X-Robots-Tag:noindex
X-PUBLISHED-TTL:PT1H
BEGIN:VTIMEZONE
TZID:America/Winnipeg
BEGIN:DAYLIGHT
TZOFFSETFROM:-0600
TZOFFSETTO:-0500
TZNAME:CDT
DTSTART:20250309T080000
END:DAYLIGHT
BEGIN:STANDARD
TZOFFSETFROM:-0500
TZOFFSETTO:-0600
TZNAME:CST
DTSTART:20251102T070000
END:STANDARD
BEGIN:DAYLIGHT
TZOFFSETFROM:-0600
TZOFFSETTO:-0500
TZNAME:CDT
DTSTART:20260308T080000
END:DAYLIGHT
BEGIN:STANDARD
TZOFFSETFROM:-0500
TZOFFSETTO:-0600
TZNAME:CST
DTSTART:20261101T070000
END:STANDARD
BEGIN:DAYLIGHT
TZOFFSETFROM:-0600
TZOFFSETTO:-0500
TZNAME:CDT
DTSTART:20270314T080000
END:DAYLIGHT
BEGIN:STANDARD
TZOFFSETFROM:-0500
TZOFFSETTO:-0600
TZNAME:CST
DTSTART:20271107T070000
END:STANDARD
END:VTIMEZONE
BEGIN:VEVENT
DTSTART;TZID=America/Winnipeg:20260420T080000
DTEND;TZID=America/Winnipeg:20260427T170000
DTSTAMP:20260423T140321
CREATED:20260420T173814Z
LAST-MODIFIED:20260415T174003Z
UID:10006589-1776672000-1777309200@www.nwomcfs.ca
SUMMARY:Michif word of the week - Good Luck
DESCRIPTION:
URL:https://www.nwomcfs.ca/events/michif-word-of-the-week-good-luck/
ORGANIZER;CN="Charmaine Langlais":MAILTO:Charmaine.Langlais@nwomcfs.ca
END:VEVENT
BEGIN:VEVENT
DTSTART;TZID=America/Winnipeg:20260429T180000
DTEND;TZID=America/Winnipeg:20260429T200000
DTSTAMP:20260423T140321
CREATED:20260415T155148Z
LAST-MODIFIED:20260415T163731Z
UID:10006585-1777485600-1777492800@www.nwomcfs.ca
SUMMARY:Virtual Cooking - Join your Métis Community
DESCRIPTION:
URL:https://www.nwomcfs.ca/events/virtual-cooking-join-your-metis-community/
ORGANIZER;CN="Charmaine Langlais":MAILTO:Charmaine.Langlais@nwomcfs.ca
END:VEVENT
BEGIN:VEVENT
DTSTART;TZID=America/Winnipeg:20260504T180000
DTEND;TZID=America/Winnipeg:20260504T190000
DTSTAMP:20260423T140321
CREATED:20260416T141215Z
LAST-MODIFIED:20260416T141215Z
UID:10006610-1777917600-1777921200@www.nwomcfs.ca
SUMMARY:Come Learn Michif - Classes over Zoom
DESCRIPTION:
URL:https://www.nwomcfs.ca/events/come-learn-michif-classes-over-zoom/2026-05-04/
ORGANIZER;CN="Charmaine Langlais":MAILTO:Charmaine.Langlais@nwomcfs.ca
END:VEVENT
BEGIN:VEVENT
DTSTART;TZID=America/Winnipeg:20260511T180000
DTEND;TZID=America/Winnipeg:20260511T190000
DTSTAMP:20260423T140321
CREATED:20260416T141215Z
LAST-MODIFIED:20260416T141215Z
UID:10006611-1778522400-1778526000@www.nwomcfs.ca
SUMMARY:Come Learn Michif - Classes over Zoom
DESCRIPTION:
URL:https://www.nwomcfs.ca/events/come-learn-michif-classes-over-zoom/2026-05-11/
ORGANIZER;CN="Charmaine Langlais":MAILTO:Charmaine.Langlais@nwomcfs.ca
END:VEVENT
BEGIN:VEVENT
DTSTART;TZID=America/Winnipeg:20260525T180000
DTEND;TZID=America/Winnipeg:20260525T190000
DTSTAMP:20260423T140321
CREATED:20260416T141215Z
LAST-MODIFIED:20260416T141215Z
UID:10006612-1779732000-1779735600@www.nwomcfs.ca
SUMMARY:Come Learn Michif - Classes over Zoom
DESCRIPTION:
URL:https://www.nwomcfs.ca/events/come-learn-michif-classes-over-zoom/2026-05-25/
ORGANIZER;CN="Charmaine Langlais":MAILTO:Charmaine.Langlais@nwomcfs.ca
END:VEVENT
BEGIN:VEVENT
DTSTART;TZID=America/Winnipeg:20260601T180000
DTEND;TZID=America/Winnipeg:20260601T190000
DTSTAMP:20260423T140321
CREATED:20260416T141215Z
LAST-MODIFIED:20260416T141215Z
UID:10006613-1780336800-1780340400@www.nwomcfs.ca
SUMMARY:Come Learn Michif - Classes over Zoom
DESCRIPTION:
URL:https://www.nwomcfs.ca/events/come-learn-michif-classes-over-zoom/2026-06-01/
ORGANIZER;CN="Charmaine Langlais":MAILTO:Charmaine.Langlais@nwomcfs.ca
END:VEVENT
BEGIN:VEVENT
DTSTART;TZID=America/Winnipeg:20260608T180000
DTEND;TZID=America/Winnipeg:20260608T190000
DTSTAMP:20260423T140321
CREATED:20260416T141215Z
LAST-MODIFIED:20260416T141215Z
UID:10006614-1780941600-1780945200@www.nwomcfs.ca
SUMMARY:Come Learn Michif - Classes over Zoom
DESCRIPTION:
URL:https://www.nwomcfs.ca/events/come-learn-michif-classes-over-zoom/2026-06-08/
ORGANIZER;CN="Charmaine Langlais":MAILTO:Charmaine.Langlais@nwomcfs.ca
END:VEVENT
BEGIN:VEVENT
DTSTART;TZID=America/Winnipeg:20260615T180000
DTEND;TZID=America/Winnipeg:20260615T190000
DTSTAMP:20260423T140321
CREATED:20260416T141215Z
LAST-MODIFIED:20260416T141215Z
UID:10006615-1781546400-1781550000@www.nwomcfs.ca
SUMMARY:Come Learn Michif - Classes over Zoom
DESCRIPTION:
URL:https://www.nwomcfs.ca/events/come-learn-michif-classes-over-zoom/2026-06-15/
ORGANIZER;CN="Charmaine Langlais":MAILTO:Charmaine.Langlais@nwomcfs.ca
END:VEVENT
END:VCALENDAR