BEGIN:VCALENDAR
VERSION:2.0
PRODID:-//Northwestern Ontario Métis Child and Family Services - ECPv6.15.13//NONSGML v1.0//EN
CALSCALE:GREGORIAN
METHOD:PUBLISH
X-WR-CALNAME:Northwestern Ontario Métis Child and Family Services
X-ORIGINAL-URL:https://www.nwomcfs.ca
X-WR-CALDESC:Events for Northwestern Ontario Métis Child and Family Services
REFRESH-INTERVAL;VALUE=DURATION:PT1H
X-Robots-Tag:noindex
X-PUBLISHED-TTL:PT1H
BEGIN:VTIMEZONE
TZID:America/Winnipeg
BEGIN:DAYLIGHT
TZOFFSETFROM:-0600
TZOFFSETTO:-0500
TZNAME:CDT
DTSTART:20250309T080000
END:DAYLIGHT
BEGIN:STANDARD
TZOFFSETFROM:-0500
TZOFFSETTO:-0600
TZNAME:CST
DTSTART:20251102T070000
END:STANDARD
BEGIN:DAYLIGHT
TZOFFSETFROM:-0600
TZOFFSETTO:-0500
TZNAME:CDT
DTSTART:20260308T080000
END:DAYLIGHT
BEGIN:STANDARD
TZOFFSETFROM:-0500
TZOFFSETTO:-0600
TZNAME:CST
DTSTART:20261101T070000
END:STANDARD
BEGIN:DAYLIGHT
TZOFFSETFROM:-0600
TZOFFSETTO:-0500
TZNAME:CDT
DTSTART:20270314T080000
END:DAYLIGHT
BEGIN:STANDARD
TZOFFSETFROM:-0500
TZOFFSETTO:-0600
TZNAME:CST
DTSTART:20271107T070000
END:STANDARD
END:VTIMEZONE
BEGIN:VEVENT
DTSTART;TZID=America/Winnipeg:20260506T110000
DTEND;TZID=America/Winnipeg:20260506T123000
DTSTAMP:20260423T142555
CREATED:20260422T191244Z
LAST-MODIFIED:20260415T191747Z
UID:10006591-1778065200-1778070600@www.nwomcfs.ca
SUMMARY:Dryden -Métis Beaders
DESCRIPTION:
URL:https://www.nwomcfs.ca/events/dryden-metis-beaders/2026-05-06/
LOCATION:NWOMCFS Dryden Office\, 211 Princess Street\, Dryden\, ON\, Canada
CATEGORIES:Dryden
ORGANIZER;CN="Amanda Lupien":MAILTO:amanda,lupien@nwomcfs.ca
END:VEVENT
BEGIN:VEVENT
DTSTART;TZID=America/Winnipeg:20260513T110000
DTEND;TZID=America/Winnipeg:20260513T123000
DTSTAMP:20260423T142555
CREATED:20260422T191244Z
LAST-MODIFIED:20260415T191747Z
UID:10006592-1778670000-1778675400@www.nwomcfs.ca
SUMMARY:Dryden -Métis Beaders
DESCRIPTION:
URL:https://www.nwomcfs.ca/events/dryden-metis-beaders/2026-05-13/
LOCATION:NWOMCFS Dryden Office\, 211 Princess Street\, Dryden\, ON\, Canada
CATEGORIES:Dryden
ORGANIZER;CN="Amanda Lupien":MAILTO:amanda,lupien@nwomcfs.ca
END:VEVENT
BEGIN:VEVENT
DTSTART;TZID=America/Winnipeg:20260527T110000
DTEND;TZID=America/Winnipeg:20260527T123000
DTSTAMP:20260423T142555
CREATED:20260422T191244Z
LAST-MODIFIED:20260415T191747Z
UID:10006593-1779879600-1779885000@www.nwomcfs.ca
SUMMARY:Dryden -Métis Beaders
DESCRIPTION:
URL:https://www.nwomcfs.ca/events/dryden-metis-beaders/2026-05-27/
LOCATION:NWOMCFS Dryden Office\, 211 Princess Street\, Dryden\, ON\, Canada
CATEGORIES:Dryden
ORGANIZER;CN="Amanda Lupien":MAILTO:amanda,lupien@nwomcfs.ca
END:VEVENT
END:VCALENDAR