BEGIN:VCALENDAR
VERSION:2.0
PRODID:-//Northwestern Ontario Métis Child and Family Services - ECPv6.15.13//NONSGML v1.0//EN
CALSCALE:GREGORIAN
METHOD:PUBLISH
X-ORIGINAL-URL:https://www.nwomcfs.ca
X-WR-CALDESC:Events for Northwestern Ontario Métis Child and Family Services
REFRESH-INTERVAL;VALUE=DURATION:PT1H
X-Robots-Tag:noindex
X-PUBLISHED-TTL:PT1H
BEGIN:VTIMEZONE
TZID:America/Winnipeg
BEGIN:DAYLIGHT
TZOFFSETFROM:-0600
TZOFFSETTO:-0500
TZNAME:CDT
DTSTART:20250309T080000
END:DAYLIGHT
BEGIN:STANDARD
TZOFFSETFROM:-0500
TZOFFSETTO:-0600
TZNAME:CST
DTSTART:20251102T070000
END:STANDARD
BEGIN:DAYLIGHT
TZOFFSETFROM:-0600
TZOFFSETTO:-0500
TZNAME:CDT
DTSTART:20260308T080000
END:DAYLIGHT
BEGIN:STANDARD
TZOFFSETFROM:-0500
TZOFFSETTO:-0600
TZNAME:CST
DTSTART:20261101T070000
END:STANDARD
BEGIN:DAYLIGHT
TZOFFSETFROM:-0600
TZOFFSETTO:-0500
TZNAME:CDT
DTSTART:20270314T080000
END:DAYLIGHT
BEGIN:STANDARD
TZOFFSETFROM:-0500
TZOFFSETTO:-0600
TZNAME:CST
DTSTART:20271107T070000
END:STANDARD
BEGIN:DAYLIGHT
TZOFFSETFROM:-0600
TZOFFSETTO:-0500
TZNAME:CDT
DTSTART:20280312T080000
END:DAYLIGHT
BEGIN:STANDARD
TZOFFSETFROM:-0500
TZOFFSETTO:-0600
TZNAME:CST
DTSTART:20281105T070000
END:STANDARD
END:VTIMEZONE
BEGIN:VEVENT
DTSTART;VALUE=DATE:20260417
DTEND;VALUE=DATE:20261001
DTSTAMP:20260423T181101
CREATED:20260417T201327Z
LAST-MODIFIED:20260417T201327Z
UID:10006617-1776384000-1790812799@www.nwomcfs.ca
SUMMARY:Home Child Care Provider - If you need help with your application or would like to learn more about the Home Child Care Program\, please contact Early Learning & Child Care Partnerships team here:  homechildcare@metisnation.org
DESCRIPTION:
URL:https://www.nwomcfs.ca/events/home-child-care-provider-if-you-need-help-with-your-application-or-would-like-to-learn-more-about-the-home-child-care-program-please-contact-early-learning-child-care-partnerships-team-here-hom/
END:VEVENT
BEGIN:VEVENT
DTSTART;VALUE=DATE:20260423
DTEND;VALUE=DATE:20270424
DTSTAMP:20260423T181101
CREATED:20260423T200521Z
LAST-MODIFIED:20260423T200521Z
UID:10006636-1776902400-1808524799@www.nwomcfs.ca
SUMMARY:Family Preservation Services - Available in all NWOMCFS locations
DESCRIPTION:
URL:https://www.nwomcfs.ca/events/family-preservation-services-available-in-all-nwomcfs-locations/
END:VEVENT
BEGIN:VEVENT
DTSTART;VALUE=DATE:20260423
DTEND;VALUE=DATE:20270424
DTSTAMP:20260423T181101
CREATED:20260423T200702Z
LAST-MODIFIED:20260423T200702Z
UID:10006637-1776902400-1808524799@www.nwomcfs.ca
SUMMARY:Family Prevention Services -Available in all NWOMCFS Locations
DESCRIPTION:
URL:https://www.nwomcfs.ca/events/family-prevention-services-available-in-all-nwomcfs-locations/
END:VEVENT
BEGIN:VEVENT
DTSTART;TZID=America/Winnipeg:20260803T153000
DTEND;TZID=America/Winnipeg:20260803T163000
DTSTAMP:20260423T181101
CREATED:20250925T050022Z
LAST-MODIFIED:20250818T143753Z
UID:10005439-1785771000-1785774600@www.nwomcfs.ca
SUMMARY:Dryden - Métis Tween Club - Welcome back to learning\, creating & interacting
DESCRIPTION:
URL:https://www.nwomcfs.ca/events/dryden-metis-tween-club-welcome-back-to-learning-creating-interacting/2026-08-03/
LOCATION:NWOMCFS Dryden Office – New\, 45 King Street. Upper Level\, Dryden\, ON\, P8N 1B7\, Canada
CATEGORIES:Dryden
ORGANIZER;CN="Amanda Lupien":MAILTO:amanda,lupien@nwomcfs.ca
END:VEVENT
BEGIN:VEVENT
DTSTART;TZID=America/Winnipeg:20260805T110000
DTEND;TZID=America/Winnipeg:20260805T123000
DTSTAMP:20260423T181101
CREATED:20250820T050047Z
LAST-MODIFIED:20250812T135821Z
UID:10005218-1785927600-1785933000@www.nwomcfs.ca
SUMMARY:Dryden - Métis Beaders: Drop In Beading
DESCRIPTION:
URL:https://www.nwomcfs.ca/events/dryden-metis-beaders-drop-in-beading-3/2026-08-05/
LOCATION:NWOMCFS Dryden Office – New\, 45 King Street. Upper Level\, Dryden\, ON\, P8N 1B7\, Canada
CATEGORIES:Dryden
ORGANIZER;CN="Amanda Lupien":MAILTO:amanda,lupien@nwomcfs.ca
END:VEVENT
BEGIN:VEVENT
DTSTART;TZID=America/Winnipeg:20260806T100000
DTEND;TZID=America/Winnipeg:20260806T120000
DTSTAMP:20260423T181101
CREATED:20260423T152932Z
LAST-MODIFIED:20260410T153724Z
UID:10006541-1786010400-1786017600@www.nwomcfs.ca
SUMMARY:Atikokan-Tea Talk and Trails
DESCRIPTION:
URL:https://www.nwomcfs.ca/events/atikokan-tea-talk-and-trails/2026-08-06/
LOCATION:NWOMCFS Atikokan\, 227 Marks Street\, Atikokan\, Ontario\, P0T 1C0\, Canada
CATEGORIES:Atikokan
ORGANIZER;CN="Cloey Brigham":MAILTO:Cloey.Brigham@nwomcfs.ca
END:VEVENT
BEGIN:VEVENT
DTSTART;TZID=America/Winnipeg:20260810T153000
DTEND;TZID=America/Winnipeg:20260810T163000
DTSTAMP:20260423T181101
CREATED:20250925T050022Z
LAST-MODIFIED:20250818T143753Z
UID:10005440-1786375800-1786379400@www.nwomcfs.ca
SUMMARY:Dryden - Métis Tween Club - Welcome back to learning\, creating & interacting
DESCRIPTION:
URL:https://www.nwomcfs.ca/events/dryden-metis-tween-club-welcome-back-to-learning-creating-interacting/2026-08-10/
LOCATION:NWOMCFS Dryden Office – New\, 45 King Street. Upper Level\, Dryden\, ON\, P8N 1B7\, Canada
CATEGORIES:Dryden
ORGANIZER;CN="Amanda Lupien":MAILTO:amanda,lupien@nwomcfs.ca
END:VEVENT
BEGIN:VEVENT
DTSTART;TZID=America/Winnipeg:20260812T110000
DTEND;TZID=America/Winnipeg:20260812T123000
DTSTAMP:20260423T181101
CREATED:20250820T050047Z
LAST-MODIFIED:20250812T135821Z
UID:10005219-1786532400-1786537800@www.nwomcfs.ca
SUMMARY:Dryden - Métis Beaders: Drop In Beading
DESCRIPTION:
URL:https://www.nwomcfs.ca/events/dryden-metis-beaders-drop-in-beading-3/2026-08-12/
LOCATION:NWOMCFS Dryden Office – New\, 45 King Street. Upper Level\, Dryden\, ON\, P8N 1B7\, Canada
CATEGORIES:Dryden
ORGANIZER;CN="Amanda Lupien":MAILTO:amanda,lupien@nwomcfs.ca
END:VEVENT
BEGIN:VEVENT
DTSTART;TZID=America/Winnipeg:20260813T100000
DTEND;TZID=America/Winnipeg:20260813T120000
DTSTAMP:20260423T181101
CREATED:20260423T152932Z
LAST-MODIFIED:20260410T153724Z
UID:10006542-1786615200-1786622400@www.nwomcfs.ca
SUMMARY:Atikokan-Tea Talk and Trails
DESCRIPTION:
URL:https://www.nwomcfs.ca/events/atikokan-tea-talk-and-trails/2026-08-13/
LOCATION:NWOMCFS Atikokan\, 227 Marks Street\, Atikokan\, Ontario\, P0T 1C0\, Canada
CATEGORIES:Atikokan
ORGANIZER;CN="Cloey Brigham":MAILTO:Cloey.Brigham@nwomcfs.ca
END:VEVENT
BEGIN:VEVENT
DTSTART;TZID=America/Winnipeg:20260817T153000
DTEND;TZID=America/Winnipeg:20260817T163000
DTSTAMP:20260423T181101
CREATED:20250925T050022Z
LAST-MODIFIED:20250818T143753Z
UID:10005441-1786980600-1786984200@www.nwomcfs.ca
SUMMARY:Dryden - Métis Tween Club - Welcome back to learning\, creating & interacting
DESCRIPTION:
URL:https://www.nwomcfs.ca/events/dryden-metis-tween-club-welcome-back-to-learning-creating-interacting/2026-08-17/
LOCATION:NWOMCFS Dryden Office – New\, 45 King Street. Upper Level\, Dryden\, ON\, P8N 1B7\, Canada
CATEGORIES:Dryden
ORGANIZER;CN="Amanda Lupien":MAILTO:amanda,lupien@nwomcfs.ca
END:VEVENT
BEGIN:VEVENT
DTSTART;TZID=America/Winnipeg:20260819T110000
DTEND;TZID=America/Winnipeg:20260819T123000
DTSTAMP:20260423T181101
CREATED:20250820T050047Z
LAST-MODIFIED:20250812T135821Z
UID:10005220-1787137200-1787142600@www.nwomcfs.ca
SUMMARY:Dryden - Métis Beaders: Drop In Beading
DESCRIPTION:
URL:https://www.nwomcfs.ca/events/dryden-metis-beaders-drop-in-beading-3/2026-08-19/
LOCATION:NWOMCFS Dryden Office – New\, 45 King Street. Upper Level\, Dryden\, ON\, P8N 1B7\, Canada
CATEGORIES:Dryden
ORGANIZER;CN="Amanda Lupien":MAILTO:amanda,lupien@nwomcfs.ca
END:VEVENT
BEGIN:VEVENT
DTSTART;TZID=America/Winnipeg:20260820T100000
DTEND;TZID=America/Winnipeg:20260820T120000
DTSTAMP:20260423T181101
CREATED:20260423T152932Z
LAST-MODIFIED:20260410T153724Z
UID:10006543-1787220000-1787227200@www.nwomcfs.ca
SUMMARY:Atikokan-Tea Talk and Trails
DESCRIPTION:
URL:https://www.nwomcfs.ca/events/atikokan-tea-talk-and-trails/2026-08-20/
LOCATION:NWOMCFS Atikokan\, 227 Marks Street\, Atikokan\, Ontario\, P0T 1C0\, Canada
CATEGORIES:Atikokan
ORGANIZER;CN="Cloey Brigham":MAILTO:Cloey.Brigham@nwomcfs.ca
END:VEVENT
BEGIN:VEVENT
DTSTART;TZID=America/Winnipeg:20260824T153000
DTEND;TZID=America/Winnipeg:20260824T163000
DTSTAMP:20260423T181101
CREATED:20250925T050022Z
LAST-MODIFIED:20250818T143753Z
UID:10005442-1787585400-1787589000@www.nwomcfs.ca
SUMMARY:Dryden - Métis Tween Club - Welcome back to learning\, creating & interacting
DESCRIPTION:
URL:https://www.nwomcfs.ca/events/dryden-metis-tween-club-welcome-back-to-learning-creating-interacting/2026-08-24/
LOCATION:NWOMCFS Dryden Office – New\, 45 King Street. Upper Level\, Dryden\, ON\, P8N 1B7\, Canada
CATEGORIES:Dryden
ORGANIZER;CN="Amanda Lupien":MAILTO:amanda,lupien@nwomcfs.ca
END:VEVENT
BEGIN:VEVENT
DTSTART;TZID=America/Winnipeg:20260826T110000
DTEND;TZID=America/Winnipeg:20260826T123000
DTSTAMP:20260423T181101
CREATED:20250820T050047Z
LAST-MODIFIED:20250812T135821Z
UID:10005221-1787742000-1787747400@www.nwomcfs.ca
SUMMARY:Dryden - Métis Beaders: Drop In Beading
DESCRIPTION:
URL:https://www.nwomcfs.ca/events/dryden-metis-beaders-drop-in-beading-3/2026-08-26/
LOCATION:NWOMCFS Dryden Office – New\, 45 King Street. Upper Level\, Dryden\, ON\, P8N 1B7\, Canada
CATEGORIES:Dryden
ORGANIZER;CN="Amanda Lupien":MAILTO:amanda,lupien@nwomcfs.ca
END:VEVENT
BEGIN:VEVENT
DTSTART;TZID=America/Winnipeg:20260827T100000
DTEND;TZID=America/Winnipeg:20260827T120000
DTSTAMP:20260423T181101
CREATED:20260423T152932Z
LAST-MODIFIED:20260410T153724Z
UID:10006544-1787824800-1787832000@www.nwomcfs.ca
SUMMARY:Atikokan-Tea Talk and Trails
DESCRIPTION:
URL:https://www.nwomcfs.ca/events/atikokan-tea-talk-and-trails/2026-08-27/
LOCATION:NWOMCFS Atikokan\, 227 Marks Street\, Atikokan\, Ontario\, P0T 1C0\, Canada
CATEGORIES:Atikokan
ORGANIZER;CN="Cloey Brigham":MAILTO:Cloey.Brigham@nwomcfs.ca
END:VEVENT
BEGIN:VEVENT
DTSTART;TZID=America/Winnipeg:20260831T153000
DTEND;TZID=America/Winnipeg:20260831T163000
DTSTAMP:20260423T181101
CREATED:20250925T050022Z
LAST-MODIFIED:20250818T143753Z
UID:10005443-1788190200-1788193800@www.nwomcfs.ca
SUMMARY:Dryden - Métis Tween Club - Welcome back to learning\, creating & interacting
DESCRIPTION:
URL:https://www.nwomcfs.ca/events/dryden-metis-tween-club-welcome-back-to-learning-creating-interacting/2026-08-31/
LOCATION:NWOMCFS Dryden Office – New\, 45 King Street. Upper Level\, Dryden\, ON\, P8N 1B7\, Canada
CATEGORIES:Dryden
ORGANIZER;CN="Amanda Lupien":MAILTO:amanda,lupien@nwomcfs.ca
END:VEVENT
END:VCALENDAR