BEGIN:VCALENDAR
VERSION:2.0
PRODID:-//Northwestern Ontario Métis Child and Family Services - ECPv6.15.13//NONSGML v1.0//EN
CALSCALE:GREGORIAN
METHOD:PUBLISH
X-WR-CALNAME:Northwestern Ontario Métis Child and Family Services
X-ORIGINAL-URL:https://www.nwomcfs.ca
X-WR-CALDESC:Events for Northwestern Ontario Métis Child and Family Services
REFRESH-INTERVAL;VALUE=DURATION:PT1H
X-Robots-Tag:noindex
X-PUBLISHED-TTL:PT1H
BEGIN:VTIMEZONE
TZID:America/Winnipeg
BEGIN:DAYLIGHT
TZOFFSETFROM:-0600
TZOFFSETTO:-0500
TZNAME:CDT
DTSTART:20250309T080000
END:DAYLIGHT
BEGIN:STANDARD
TZOFFSETFROM:-0500
TZOFFSETTO:-0600
TZNAME:CST
DTSTART:20251102T070000
END:STANDARD
BEGIN:DAYLIGHT
TZOFFSETFROM:-0600
TZOFFSETTO:-0500
TZNAME:CDT
DTSTART:20260308T080000
END:DAYLIGHT
BEGIN:STANDARD
TZOFFSETFROM:-0500
TZOFFSETTO:-0600
TZNAME:CST
DTSTART:20261101T070000
END:STANDARD
BEGIN:DAYLIGHT
TZOFFSETFROM:-0600
TZOFFSETTO:-0500
TZNAME:CDT
DTSTART:20270314T080000
END:DAYLIGHT
BEGIN:STANDARD
TZOFFSETFROM:-0500
TZOFFSETTO:-0600
TZNAME:CST
DTSTART:20271107T070000
END:STANDARD
BEGIN:DAYLIGHT
TZOFFSETFROM:-0600
TZOFFSETTO:-0500
TZNAME:CDT
DTSTART:20280312T080000
END:DAYLIGHT
BEGIN:STANDARD
TZOFFSETFROM:-0500
TZOFFSETTO:-0600
TZNAME:CST
DTSTART:20281105T070000
END:STANDARD
END:VTIMEZONE
BEGIN:VEVENT
DTSTART;VALUE=DATE:20260417
DTEND;VALUE=DATE:20261001
DTSTAMP:20260423T220143
CREATED:20260417T201327Z
LAST-MODIFIED:20260417T201327Z
UID:10006617-1776384000-1790812799@www.nwomcfs.ca
SUMMARY:Home Child Care Provider - If you need help with your application or would like to learn more about the Home Child Care Program\, please contact Early Learning & Child Care Partnerships team here:  homechildcare@metisnation.org
DESCRIPTION:
URL:https://www.nwomcfs.ca/events/home-child-care-provider-if-you-need-help-with-your-application-or-would-like-to-learn-more-about-the-home-child-care-program-please-contact-early-learning-child-care-partnerships-team-here-hom/
END:VEVENT
BEGIN:VEVENT
DTSTART;VALUE=DATE:20260423
DTEND;VALUE=DATE:20270424
DTSTAMP:20260423T220143
CREATED:20260423T200521Z
LAST-MODIFIED:20260423T200521Z
UID:10006636-1776902400-1808524799@www.nwomcfs.ca
SUMMARY:Family Preservation Services - Available in all NWOMCFS locations
DESCRIPTION:
URL:https://www.nwomcfs.ca/events/family-preservation-services-available-in-all-nwomcfs-locations/
END:VEVENT
BEGIN:VEVENT
DTSTART;VALUE=DATE:20260423
DTEND;VALUE=DATE:20270424
DTSTAMP:20260423T220143
CREATED:20260423T200702Z
LAST-MODIFIED:20260423T200702Z
UID:10006637-1776902400-1808524799@www.nwomcfs.ca
SUMMARY:Family Prevention Services -Available in all NWOMCFS Locations
DESCRIPTION:
URL:https://www.nwomcfs.ca/events/family-prevention-services-available-in-all-nwomcfs-locations/
END:VEVENT
BEGIN:VEVENT
DTSTART;TZID=America/Winnipeg:20260824T153000
DTEND;TZID=America/Winnipeg:20260824T163000
DTSTAMP:20260423T220143
CREATED:20250925T050022Z
LAST-MODIFIED:20250818T143753Z
UID:10005442-1787585400-1787589000@www.nwomcfs.ca
SUMMARY:Dryden - Métis Tween Club - Welcome back to learning\, creating & interacting
DESCRIPTION:
URL:https://www.nwomcfs.ca/events/dryden-metis-tween-club-welcome-back-to-learning-creating-interacting/2026-08-24/
LOCATION:NWOMCFS Dryden Office – New\, 45 King Street. Upper Level\, Dryden\, ON\, P8N 1B7\, Canada
CATEGORIES:Dryden
ORGANIZER;CN="Amanda Lupien":MAILTO:amanda,lupien@nwomcfs.ca
END:VEVENT
BEGIN:VEVENT
DTSTART;TZID=America/Winnipeg:20260826T110000
DTEND;TZID=America/Winnipeg:20260826T123000
DTSTAMP:20260423T220143
CREATED:20250820T050047Z
LAST-MODIFIED:20250812T135821Z
UID:10005221-1787742000-1787747400@www.nwomcfs.ca
SUMMARY:Dryden - Métis Beaders: Drop In Beading
DESCRIPTION:
URL:https://www.nwomcfs.ca/events/dryden-metis-beaders-drop-in-beading-3/2026-08-26/
LOCATION:NWOMCFS Dryden Office – New\, 45 King Street. Upper Level\, Dryden\, ON\, P8N 1B7\, Canada
CATEGORIES:Dryden
ORGANIZER;CN="Amanda Lupien":MAILTO:amanda,lupien@nwomcfs.ca
END:VEVENT
BEGIN:VEVENT
DTSTART;TZID=America/Winnipeg:20260827T100000
DTEND;TZID=America/Winnipeg:20260827T120000
DTSTAMP:20260423T220143
CREATED:20260423T152932Z
LAST-MODIFIED:20260410T153724Z
UID:10006544-1787824800-1787832000@www.nwomcfs.ca
SUMMARY:Atikokan-Tea Talk and Trails
DESCRIPTION:
URL:https://www.nwomcfs.ca/events/atikokan-tea-talk-and-trails/2026-08-27/
LOCATION:NWOMCFS Atikokan\, 227 Marks Street\, Atikokan\, Ontario\, P0T 1C0\, Canada
CATEGORIES:Atikokan
ORGANIZER;CN="Cloey Brigham":MAILTO:Cloey.Brigham@nwomcfs.ca
END:VEVENT
BEGIN:VEVENT
DTSTART;TZID=America/Winnipeg:20260831T153000
DTEND;TZID=America/Winnipeg:20260831T163000
DTSTAMP:20260423T220143
CREATED:20250925T050022Z
LAST-MODIFIED:20250818T143753Z
UID:10005443-1788190200-1788193800@www.nwomcfs.ca
SUMMARY:Dryden - Métis Tween Club - Welcome back to learning\, creating & interacting
DESCRIPTION:
URL:https://www.nwomcfs.ca/events/dryden-metis-tween-club-welcome-back-to-learning-creating-interacting/2026-08-31/
LOCATION:NWOMCFS Dryden Office – New\, 45 King Street. Upper Level\, Dryden\, ON\, P8N 1B7\, Canada
CATEGORIES:Dryden
ORGANIZER;CN="Amanda Lupien":MAILTO:amanda,lupien@nwomcfs.ca
END:VEVENT
BEGIN:VEVENT
DTSTART;TZID=America/Winnipeg:20260902T110000
DTEND;TZID=America/Winnipeg:20260902T123000
DTSTAMP:20260423T220143
CREATED:20250820T050047Z
LAST-MODIFIED:20250812T135821Z
UID:10005222-1788346800-1788352200@www.nwomcfs.ca
SUMMARY:Dryden - Métis Beaders: Drop In Beading
DESCRIPTION:
URL:https://www.nwomcfs.ca/events/dryden-metis-beaders-drop-in-beading-3/2026-09-02/
LOCATION:NWOMCFS Dryden Office – New\, 45 King Street. Upper Level\, Dryden\, ON\, P8N 1B7\, Canada
CATEGORIES:Dryden
ORGANIZER;CN="Amanda Lupien":MAILTO:amanda,lupien@nwomcfs.ca
END:VEVENT
BEGIN:VEVENT
DTSTART;TZID=America/Winnipeg:20260903T100000
DTEND;TZID=America/Winnipeg:20260903T120000
DTSTAMP:20260423T220143
CREATED:20260423T152932Z
LAST-MODIFIED:20260410T153724Z
UID:10006545-1788429600-1788436800@www.nwomcfs.ca
SUMMARY:Atikokan-Tea Talk and Trails
DESCRIPTION:
URL:https://www.nwomcfs.ca/events/atikokan-tea-talk-and-trails/2026-09-03/
LOCATION:NWOMCFS Atikokan\, 227 Marks Street\, Atikokan\, Ontario\, P0T 1C0\, Canada
CATEGORIES:Atikokan
ORGANIZER;CN="Cloey Brigham":MAILTO:Cloey.Brigham@nwomcfs.ca
END:VEVENT
BEGIN:VEVENT
DTSTART;TZID=America/Winnipeg:20260907T153000
DTEND;TZID=America/Winnipeg:20260907T163000
DTSTAMP:20260423T220143
CREATED:20250925T050022Z
LAST-MODIFIED:20250818T143753Z
UID:10005444-1788795000-1788798600@www.nwomcfs.ca
SUMMARY:Dryden - Métis Tween Club - Welcome back to learning\, creating & interacting
DESCRIPTION:
URL:https://www.nwomcfs.ca/events/dryden-metis-tween-club-welcome-back-to-learning-creating-interacting/2026-09-07/
LOCATION:NWOMCFS Dryden Office – New\, 45 King Street. Upper Level\, Dryden\, ON\, P8N 1B7\, Canada
CATEGORIES:Dryden
ORGANIZER;CN="Amanda Lupien":MAILTO:amanda,lupien@nwomcfs.ca
END:VEVENT
BEGIN:VEVENT
DTSTART;TZID=America/Winnipeg:20260909T110000
DTEND;TZID=America/Winnipeg:20260909T123000
DTSTAMP:20260423T220143
CREATED:20250820T050047Z
LAST-MODIFIED:20250812T135821Z
UID:10005223-1788951600-1788957000@www.nwomcfs.ca
SUMMARY:Dryden - Métis Beaders: Drop In Beading
DESCRIPTION:
URL:https://www.nwomcfs.ca/events/dryden-metis-beaders-drop-in-beading-3/2026-09-09/
LOCATION:NWOMCFS Dryden Office – New\, 45 King Street. Upper Level\, Dryden\, ON\, P8N 1B7\, Canada
CATEGORIES:Dryden
ORGANIZER;CN="Amanda Lupien":MAILTO:amanda,lupien@nwomcfs.ca
END:VEVENT
BEGIN:VEVENT
DTSTART;TZID=America/Winnipeg:20260910T100000
DTEND;TZID=America/Winnipeg:20260910T120000
DTSTAMP:20260423T220143
CREATED:20260423T152932Z
LAST-MODIFIED:20260410T153724Z
UID:10006546-1789034400-1789041600@www.nwomcfs.ca
SUMMARY:Atikokan-Tea Talk and Trails
DESCRIPTION:
URL:https://www.nwomcfs.ca/events/atikokan-tea-talk-and-trails/2026-09-10/
LOCATION:NWOMCFS Atikokan\, 227 Marks Street\, Atikokan\, Ontario\, P0T 1C0\, Canada
CATEGORIES:Atikokan
ORGANIZER;CN="Cloey Brigham":MAILTO:Cloey.Brigham@nwomcfs.ca
END:VEVENT
BEGIN:VEVENT
DTSTART;TZID=America/Winnipeg:20260914T153000
DTEND;TZID=America/Winnipeg:20260914T163000
DTSTAMP:20260423T220143
CREATED:20250925T050022Z
LAST-MODIFIED:20250818T143753Z
UID:10005445-1789399800-1789403400@www.nwomcfs.ca
SUMMARY:Dryden - Métis Tween Club - Welcome back to learning\, creating & interacting
DESCRIPTION:
URL:https://www.nwomcfs.ca/events/dryden-metis-tween-club-welcome-back-to-learning-creating-interacting/2026-09-14/
LOCATION:NWOMCFS Dryden Office – New\, 45 King Street. Upper Level\, Dryden\, ON\, P8N 1B7\, Canada
CATEGORIES:Dryden
ORGANIZER;CN="Amanda Lupien":MAILTO:amanda,lupien@nwomcfs.ca
END:VEVENT
BEGIN:VEVENT
DTSTART;TZID=America/Winnipeg:20260916T110000
DTEND;TZID=America/Winnipeg:20260916T123000
DTSTAMP:20260423T220143
CREATED:20250820T050047Z
LAST-MODIFIED:20250812T135821Z
UID:10005224-1789556400-1789561800@www.nwomcfs.ca
SUMMARY:Dryden - Métis Beaders: Drop In Beading
DESCRIPTION:
URL:https://www.nwomcfs.ca/events/dryden-metis-beaders-drop-in-beading-3/2026-09-16/
LOCATION:NWOMCFS Dryden Office – New\, 45 King Street. Upper Level\, Dryden\, ON\, P8N 1B7\, Canada
CATEGORIES:Dryden
ORGANIZER;CN="Amanda Lupien":MAILTO:amanda,lupien@nwomcfs.ca
END:VEVENT
BEGIN:VEVENT
DTSTART;TZID=America/Winnipeg:20260917T100000
DTEND;TZID=America/Winnipeg:20260917T120000
DTSTAMP:20260423T220143
CREATED:20260423T152932Z
LAST-MODIFIED:20260410T153724Z
UID:10006547-1789639200-1789646400@www.nwomcfs.ca
SUMMARY:Atikokan-Tea Talk and Trails
DESCRIPTION:
URL:https://www.nwomcfs.ca/events/atikokan-tea-talk-and-trails/2026-09-17/
LOCATION:NWOMCFS Atikokan\, 227 Marks Street\, Atikokan\, Ontario\, P0T 1C0\, Canada
CATEGORIES:Atikokan
ORGANIZER;CN="Cloey Brigham":MAILTO:Cloey.Brigham@nwomcfs.ca
END:VEVENT
BEGIN:VEVENT
DTSTART;TZID=America/Winnipeg:20260921T153000
DTEND;TZID=America/Winnipeg:20260921T163000
DTSTAMP:20260423T220143
CREATED:20250925T050022Z
LAST-MODIFIED:20250818T143753Z
UID:10005446-1790004600-1790008200@www.nwomcfs.ca
SUMMARY:Dryden - Métis Tween Club - Welcome back to learning\, creating & interacting
DESCRIPTION:
URL:https://www.nwomcfs.ca/events/dryden-metis-tween-club-welcome-back-to-learning-creating-interacting/2026-09-21/
LOCATION:NWOMCFS Dryden Office – New\, 45 King Street. Upper Level\, Dryden\, ON\, P8N 1B7\, Canada
CATEGORIES:Dryden
ORGANIZER;CN="Amanda Lupien":MAILTO:amanda,lupien@nwomcfs.ca
END:VEVENT
BEGIN:VEVENT
DTSTART;TZID=America/Winnipeg:20260923T110000
DTEND;TZID=America/Winnipeg:20260923T123000
DTSTAMP:20260423T220143
CREATED:20250820T050047Z
LAST-MODIFIED:20250812T135821Z
UID:10005225-1790161200-1790166600@www.nwomcfs.ca
SUMMARY:Dryden - Métis Beaders: Drop In Beading
DESCRIPTION:
URL:https://www.nwomcfs.ca/events/dryden-metis-beaders-drop-in-beading-3/2026-09-23/
LOCATION:NWOMCFS Dryden Office – New\, 45 King Street. Upper Level\, Dryden\, ON\, P8N 1B7\, Canada
CATEGORIES:Dryden
ORGANIZER;CN="Amanda Lupien":MAILTO:amanda,lupien@nwomcfs.ca
END:VEVENT
BEGIN:VEVENT
DTSTART;TZID=America/Winnipeg:20260924T100000
DTEND;TZID=America/Winnipeg:20260924T120000
DTSTAMP:20260423T220143
CREATED:20260423T152932Z
LAST-MODIFIED:20260410T153724Z
UID:10006548-1790244000-1790251200@www.nwomcfs.ca
SUMMARY:Atikokan-Tea Talk and Trails
DESCRIPTION:
URL:https://www.nwomcfs.ca/events/atikokan-tea-talk-and-trails/2026-09-24/
LOCATION:NWOMCFS Atikokan\, 227 Marks Street\, Atikokan\, Ontario\, P0T 1C0\, Canada
CATEGORIES:Atikokan
ORGANIZER;CN="Cloey Brigham":MAILTO:Cloey.Brigham@nwomcfs.ca
END:VEVENT
BEGIN:VEVENT
DTSTART;TZID=America/Winnipeg:20260928T153000
DTEND;TZID=America/Winnipeg:20260928T163000
DTSTAMP:20260423T220143
CREATED:20250925T050022Z
LAST-MODIFIED:20250818T143753Z
UID:10005447-1790609400-1790613000@www.nwomcfs.ca
SUMMARY:Dryden - Métis Tween Club - Welcome back to learning\, creating & interacting
DESCRIPTION:
URL:https://www.nwomcfs.ca/events/dryden-metis-tween-club-welcome-back-to-learning-creating-interacting/2026-09-28/
LOCATION:NWOMCFS Dryden Office – New\, 45 King Street. Upper Level\, Dryden\, ON\, P8N 1B7\, Canada
CATEGORIES:Dryden
ORGANIZER;CN="Amanda Lupien":MAILTO:amanda,lupien@nwomcfs.ca
END:VEVENT
BEGIN:VEVENT
DTSTART;TZID=America/Winnipeg:20260930T110000
DTEND;TZID=America/Winnipeg:20260930T123000
DTSTAMP:20260423T220143
CREATED:20250820T050047Z
LAST-MODIFIED:20250812T135821Z
UID:10005226-1790766000-1790771400@www.nwomcfs.ca
SUMMARY:Dryden - Métis Beaders: Drop In Beading
DESCRIPTION:
URL:https://www.nwomcfs.ca/events/dryden-metis-beaders-drop-in-beading-3/2026-09-30/
LOCATION:NWOMCFS Dryden Office – New\, 45 King Street. Upper Level\, Dryden\, ON\, P8N 1B7\, Canada
CATEGORIES:Dryden
ORGANIZER;CN="Amanda Lupien":MAILTO:amanda,lupien@nwomcfs.ca
END:VEVENT
BEGIN:VEVENT
DTSTART;TZID=America/Winnipeg:20261001T100000
DTEND;TZID=America/Winnipeg:20261001T120000
DTSTAMP:20260423T220143
CREATED:20260423T152932Z
LAST-MODIFIED:20260410T153724Z
UID:10006549-1790848800-1790856000@www.nwomcfs.ca
SUMMARY:Atikokan-Tea Talk and Trails
DESCRIPTION:
URL:https://www.nwomcfs.ca/events/atikokan-tea-talk-and-trails/2026-10-01/
LOCATION:NWOMCFS Atikokan\, 227 Marks Street\, Atikokan\, Ontario\, P0T 1C0\, Canada
CATEGORIES:Atikokan
ORGANIZER;CN="Cloey Brigham":MAILTO:Cloey.Brigham@nwomcfs.ca
END:VEVENT
BEGIN:VEVENT
DTSTART;TZID=America/Winnipeg:20261008T100000
DTEND;TZID=America/Winnipeg:20261008T120000
DTSTAMP:20260423T220143
CREATED:20260423T152932Z
LAST-MODIFIED:20260410T153724Z
UID:10006550-1791453600-1791460800@www.nwomcfs.ca
SUMMARY:Atikokan-Tea Talk and Trails
DESCRIPTION:
URL:https://www.nwomcfs.ca/events/atikokan-tea-talk-and-trails/2026-10-08/
LOCATION:NWOMCFS Atikokan\, 227 Marks Street\, Atikokan\, Ontario\, P0T 1C0\, Canada
CATEGORIES:Atikokan
ORGANIZER;CN="Cloey Brigham":MAILTO:Cloey.Brigham@nwomcfs.ca
END:VEVENT
BEGIN:VEVENT
DTSTART;TZID=America/Winnipeg:20261015T100000
DTEND;TZID=America/Winnipeg:20261015T120000
DTSTAMP:20260423T220143
CREATED:20260423T152932Z
LAST-MODIFIED:20260410T153724Z
UID:10006551-1792058400-1792065600@www.nwomcfs.ca
SUMMARY:Atikokan-Tea Talk and Trails
DESCRIPTION:
URL:https://www.nwomcfs.ca/events/atikokan-tea-talk-and-trails/2026-10-15/
LOCATION:NWOMCFS Atikokan\, 227 Marks Street\, Atikokan\, Ontario\, P0T 1C0\, Canada
CATEGORIES:Atikokan
ORGANIZER;CN="Cloey Brigham":MAILTO:Cloey.Brigham@nwomcfs.ca
END:VEVENT
BEGIN:VEVENT
DTSTART;TZID=America/Winnipeg:20261022T100000
DTEND;TZID=America/Winnipeg:20261022T120000
DTSTAMP:20260423T220143
CREATED:20260423T152932Z
LAST-MODIFIED:20260410T153724Z
UID:10006552-1792663200-1792670400@www.nwomcfs.ca
SUMMARY:Atikokan-Tea Talk and Trails
DESCRIPTION:
URL:https://www.nwomcfs.ca/events/atikokan-tea-talk-and-trails/2026-10-22/
LOCATION:NWOMCFS Atikokan\, 227 Marks Street\, Atikokan\, Ontario\, P0T 1C0\, Canada
CATEGORIES:Atikokan
ORGANIZER;CN="Cloey Brigham":MAILTO:Cloey.Brigham@nwomcfs.ca
END:VEVENT
BEGIN:VEVENT
DTSTART;TZID=America/Winnipeg:20261029T100000
DTEND;TZID=America/Winnipeg:20261029T120000
DTSTAMP:20260423T220143
CREATED:20260423T152932Z
LAST-MODIFIED:20260410T153724Z
UID:10006553-1793268000-1793275200@www.nwomcfs.ca
SUMMARY:Atikokan-Tea Talk and Trails
DESCRIPTION:
URL:https://www.nwomcfs.ca/events/atikokan-tea-talk-and-trails/2026-10-29/
LOCATION:NWOMCFS Atikokan\, 227 Marks Street\, Atikokan\, Ontario\, P0T 1C0\, Canada
CATEGORIES:Atikokan
ORGANIZER;CN="Cloey Brigham":MAILTO:Cloey.Brigham@nwomcfs.ca
END:VEVENT
BEGIN:VEVENT
DTSTART;TZID=America/Winnipeg:20261105T100000
DTEND;TZID=America/Winnipeg:20261105T120000
DTSTAMP:20260423T220143
CREATED:20260423T152932Z
LAST-MODIFIED:20260410T153724Z
UID:10006554-1793872800-1793880000@www.nwomcfs.ca
SUMMARY:Atikokan-Tea Talk and Trails
DESCRIPTION:
URL:https://www.nwomcfs.ca/events/atikokan-tea-talk-and-trails/2026-11-05/
LOCATION:NWOMCFS Atikokan\, 227 Marks Street\, Atikokan\, Ontario\, P0T 1C0\, Canada
CATEGORIES:Atikokan
ORGANIZER;CN="Cloey Brigham":MAILTO:Cloey.Brigham@nwomcfs.ca
END:VEVENT
BEGIN:VEVENT
DTSTART;TZID=America/Winnipeg:20261112T100000
DTEND;TZID=America/Winnipeg:20261112T120000
DTSTAMP:20260423T220143
CREATED:20260423T152932Z
LAST-MODIFIED:20260410T153724Z
UID:10006555-1794477600-1794484800@www.nwomcfs.ca
SUMMARY:Atikokan-Tea Talk and Trails
DESCRIPTION:
URL:https://www.nwomcfs.ca/events/atikokan-tea-talk-and-trails/2026-11-12/
LOCATION:NWOMCFS Atikokan\, 227 Marks Street\, Atikokan\, Ontario\, P0T 1C0\, Canada
CATEGORIES:Atikokan
ORGANIZER;CN="Cloey Brigham":MAILTO:Cloey.Brigham@nwomcfs.ca
END:VEVENT
BEGIN:VEVENT
DTSTART;TZID=America/Winnipeg:20261119T100000
DTEND;TZID=America/Winnipeg:20261119T120000
DTSTAMP:20260423T220143
CREATED:20260423T152932Z
LAST-MODIFIED:20260410T153724Z
UID:10006556-1795082400-1795089600@www.nwomcfs.ca
SUMMARY:Atikokan-Tea Talk and Trails
DESCRIPTION:
URL:https://www.nwomcfs.ca/events/atikokan-tea-talk-and-trails/2026-11-19/
LOCATION:NWOMCFS Atikokan\, 227 Marks Street\, Atikokan\, Ontario\, P0T 1C0\, Canada
CATEGORIES:Atikokan
ORGANIZER;CN="Cloey Brigham":MAILTO:Cloey.Brigham@nwomcfs.ca
END:VEVENT
BEGIN:VEVENT
DTSTART;TZID=America/Winnipeg:20261126T100000
DTEND;TZID=America/Winnipeg:20261126T120000
DTSTAMP:20260423T220143
CREATED:20260423T152932Z
LAST-MODIFIED:20260410T153724Z
UID:10006557-1795687200-1795694400@www.nwomcfs.ca
SUMMARY:Atikokan-Tea Talk and Trails
DESCRIPTION:
URL:https://www.nwomcfs.ca/events/atikokan-tea-talk-and-trails/2026-11-26/
LOCATION:NWOMCFS Atikokan\, 227 Marks Street\, Atikokan\, Ontario\, P0T 1C0\, Canada
CATEGORIES:Atikokan
ORGANIZER;CN="Cloey Brigham":MAILTO:Cloey.Brigham@nwomcfs.ca
END:VEVENT
BEGIN:VEVENT
DTSTART;TZID=America/Winnipeg:20261203T100000
DTEND;TZID=America/Winnipeg:20261203T120000
DTSTAMP:20260423T220143
CREATED:20260423T152932Z
LAST-MODIFIED:20260410T153724Z
UID:10006558-1796292000-1796299200@www.nwomcfs.ca
SUMMARY:Atikokan-Tea Talk and Trails
DESCRIPTION:
URL:https://www.nwomcfs.ca/events/atikokan-tea-talk-and-trails/2026-12-03/
LOCATION:NWOMCFS Atikokan\, 227 Marks Street\, Atikokan\, Ontario\, P0T 1C0\, Canada
CATEGORIES:Atikokan
ORGANIZER;CN="Cloey Brigham":MAILTO:Cloey.Brigham@nwomcfs.ca
END:VEVENT
END:VCALENDAR