BEGIN:VCALENDAR
VERSION:2.0
PRODID:-//Northwestern Ontario Métis Child and Family Services - ECPv6.15.13//NONSGML v1.0//EN
CALSCALE:GREGORIAN
METHOD:PUBLISH
X-WR-CALNAME:Northwestern Ontario Métis Child and Family Services
X-ORIGINAL-URL:https://www.nwomcfs.ca
X-WR-CALDESC:Events for Northwestern Ontario Métis Child and Family Services
REFRESH-INTERVAL;VALUE=DURATION:PT1H
X-Robots-Tag:noindex
X-PUBLISHED-TTL:PT1H
BEGIN:VTIMEZONE
TZID:America/Winnipeg
BEGIN:DAYLIGHT
TZOFFSETFROM:-0600
TZOFFSETTO:-0500
TZNAME:CDT
DTSTART:20250309T080000
END:DAYLIGHT
BEGIN:STANDARD
TZOFFSETFROM:-0500
TZOFFSETTO:-0600
TZNAME:CST
DTSTART:20251102T070000
END:STANDARD
BEGIN:DAYLIGHT
TZOFFSETFROM:-0600
TZOFFSETTO:-0500
TZNAME:CDT
DTSTART:20260308T080000
END:DAYLIGHT
BEGIN:STANDARD
TZOFFSETFROM:-0500
TZOFFSETTO:-0600
TZNAME:CST
DTSTART:20261101T070000
END:STANDARD
BEGIN:DAYLIGHT
TZOFFSETFROM:-0600
TZOFFSETTO:-0500
TZNAME:CDT
DTSTART:20270314T080000
END:DAYLIGHT
BEGIN:STANDARD
TZOFFSETFROM:-0500
TZOFFSETTO:-0600
TZNAME:CST
DTSTART:20271107T070000
END:STANDARD
END:VTIMEZONE
BEGIN:VEVENT
DTSTART;TZID=America/Winnipeg:20260511T180000
DTEND;TZID=America/Winnipeg:20260511T190000
DTSTAMP:20260423T181307
CREATED:20260416T141215Z
LAST-MODIFIED:20260416T141215Z
UID:10006611-1778522400-1778526000@www.nwomcfs.ca
SUMMARY:Come Learn Michif - Classes over Zoom
DESCRIPTION:
URL:https://www.nwomcfs.ca/events/come-learn-michif-classes-over-zoom/2026-05-11/
ORGANIZER;CN="Charmaine Langlais":MAILTO:Charmaine.Langlais@nwomcfs.ca
END:VEVENT
BEGIN:VEVENT
DTSTART;TZID=America/Winnipeg:20260511T153000
DTEND;TZID=America/Winnipeg:20260511T163000
DTSTAMP:20260423T181307
CREATED:20260420T192702Z
LAST-MODIFIED:20260415T193224Z
UID:10006600-1778513400-1778517000@www.nwomcfs.ca
SUMMARY:Dryden - Métis Tween Club
DESCRIPTION:
URL:https://www.nwomcfs.ca/events/dryden-metis-tween-club/2026-05-11/
LOCATION:NWOMCFS Dryden Office – New\, 45 King Street. Upper Level\, Dryden\, ON\, P8N 1B7\, Canada
CATEGORIES:Dryden
ORGANIZER;CN="Amanda Lupien":MAILTO:amanda,lupien@nwomcfs.ca
END:VEVENT
BEGIN:VEVENT
DTSTART;TZID=America/Winnipeg:20260511T153000
DTEND;TZID=America/Winnipeg:20260511T163000
DTSTAMP:20260423T181307
CREATED:20250925T050022Z
LAST-MODIFIED:20250818T143753Z
UID:10005427-1778513400-1778517000@www.nwomcfs.ca
SUMMARY:Dryden - Métis Tween Club - Welcome back to learning\, creating & interacting
DESCRIPTION:
URL:https://www.nwomcfs.ca/events/dryden-metis-tween-club-welcome-back-to-learning-creating-interacting/2026-05-11/
LOCATION:NWOMCFS Dryden Office – New\, 45 King Street. Upper Level\, Dryden\, ON\, P8N 1B7\, Canada
CATEGORIES:Dryden
ORGANIZER;CN="Amanda Lupien":MAILTO:amanda,lupien@nwomcfs.ca
END:VEVENT
BEGIN:VEVENT
DTSTART;TZID=America/Winnipeg:20260511T100000
DTEND;TZID=America/Winnipeg:20260511T110000
DTSTAMP:20260423T181307
CREATED:20260420T193448Z
LAST-MODIFIED:20260415T194207Z
UID:10006603-1778493600-1778497200@www.nwomcfs.ca
SUMMARY:Dryden - Tot Corner
DESCRIPTION:
URL:https://www.nwomcfs.ca/events/dryden-tot-corner-2/2026-05-11/
LOCATION:NWOMCFS Dryden Office – New\, 45 King Street. Upper Level\, Dryden\, ON\, P8N 1B7\, Canada
CATEGORIES:Dryden
ORGANIZER;CN="Amanda Lupien":MAILTO:amanda,lupien@nwomcfs.ca
END:VEVENT
BEGIN:VEVENT
DTSTART;TZID=America/Winnipeg:20260508T120000
DTEND;TZID=America/Winnipeg:20260508T130000
DTSTAMP:20260423T181307
CREATED:20260417T194243Z
LAST-MODIFIED:20260415T204427Z
UID:10006606-1778241600-1778245200@www.nwomcfs.ca
SUMMARY:Atikokan - Join your Métis Community for Lunch Time Yoga Classes
DESCRIPTION:
URL:https://www.nwomcfs.ca/events/atikokan-join-your-metis-community-for-lunch-time-yoga-classes/2026-05-08/
LOCATION:NWOMCFS Atikokan\, 227 Marks Street\, Atikokan\, Ontario\, P0T 1C0\, Canada
CATEGORIES:Atikokan
ORGANIZER;CN="Cloey Brigham":MAILTO:Cloey.Brigham@nwomcfs.ca
END:VEVENT
BEGIN:VEVENT
DTSTART;TZID=America/Winnipeg:20260508T120000
DTEND;TZID=America/Winnipeg:20260508T130000
DTSTAMP:20260423T181307
CREATED:20260417T191823Z
LAST-MODIFIED:20260415T193329Z
UID:10006595-1778241600-1778245200@www.nwomcfs.ca
SUMMARY:Dryden High School Métis Students - Lunch Time Drop In
DESCRIPTION:
URL:https://www.nwomcfs.ca/events/dryden-high-school-metis-students-lunch-time-drop-in/2026-05-08/
LOCATION:NWOMCFS Dryden Office\, 211 Princess Street\, Dryden\, ON\, Canada
CATEGORIES:Dryden
END:VEVENT
BEGIN:VEVENT
DTSTART;TZID=America/Winnipeg:20260507T153000
DTEND;TZID=America/Winnipeg:20260507T170000
DTSTAMP:20260423T181307
CREATED:20260319T050008Z
LAST-MODIFIED:20260318T161618Z
UID:10006461-1778167800-1778173200@www.nwomcfs.ca
SUMMARY:Dryden - Babysitting Course
DESCRIPTION:
URL:https://www.nwomcfs.ca/events/10387/2026-05-07/
LOCATION:NWOMCFS Dryden Office – New\, 45 King Street. Upper Level\, Dryden\, ON\, P8N 1B7\, Canada
CATEGORIES:Dryden
ORGANIZER;CN="Amanda Lupien":MAILTO:amanda,lupien@nwomcfs.ca
END:VEVENT
BEGIN:VEVENT
DTSTART;TZID=America/Winnipeg:20260507T100000
DTEND;TZID=America/Winnipeg:20260507T120000
DTSTAMP:20260423T181307
CREATED:20260423T152932Z
LAST-MODIFIED:20260410T153724Z
UID:10006528-1778148000-1778155200@www.nwomcfs.ca
SUMMARY:Atikokan-Tea Talk and Trails
DESCRIPTION:
URL:https://www.nwomcfs.ca/events/atikokan-tea-talk-and-trails/2026-05-07/
LOCATION:NWOMCFS Atikokan\, 227 Marks Street\, Atikokan\, Ontario\, P0T 1C0\, Canada
CATEGORIES:Atikokan
ORGANIZER;CN="Cloey Brigham":MAILTO:Cloey.Brigham@nwomcfs.ca
END:VEVENT
BEGIN:VEVENT
DTSTART;TZID=America/Winnipeg:20260506T160000
DTEND;TZID=America/Winnipeg:20260506T180000
DTSTAMP:20260423T181307
CREATED:20260422T142325Z
LAST-MODIFIED:20260422T143645Z
UID:10006629-1778083200-1778090400@www.nwomcfs.ca
SUMMARY:Dryden - Join your Métis Community to Create our own Métis Community Garden!
DESCRIPTION:
URL:https://www.nwomcfs.ca/events/dryden-join-your-metis-community-to-create-our-own-metis-community-garden/2026-05-06/
LOCATION:NWOMCFS Dryden Office – New\, 45 King Street. Upper Level\, Dryden\, ON\, P8N 1B7\, Canada
CATEGORIES:Dryden
ORGANIZER;CN="Angelica Van Bastelaere":MAILTO:Angelica.VanBastelaere@nwomcfs.ca
END:VEVENT
BEGIN:VEVENT
DTSTART;TZID=America/Winnipeg:20260506T160000
DTEND;TZID=America/Winnipeg:20260506T173000
DTSTAMP:20260423T181307
CREATED:20260325T050046Z
LAST-MODIFIED:20260320T191409Z
UID:10006488-1778083200-1778088600@www.nwomcfs.ca
SUMMARY:Atikokan - Your're The Chef - 5 Week Fun Cooking Class For Kids
DESCRIPTION:
URL:https://www.nwomcfs.ca/events/atikokan-yourre-the-chef-5-week-fun-cooking-class-for-kids/2026-05-06/
LOCATION:Atikokan Community Fellowship\, 410 Front Street\, Atikokan\, ON\, P0T 1C0\, Canada
CATEGORIES:Atikokan
ORGANIZER;CN="Korri Loveday":MAILTO:Korri.Loveday@nwomcfs.ca
END:VEVENT
BEGIN:VEVENT
DTSTART;TZID=America/Winnipeg:20260506T140000
DTEND;TZID=America/Winnipeg:20260506T160000
DTSTAMP:20260423T181307
CREATED:20260421T192325Z
LAST-MODIFIED:20260422T143714Z
UID:10006622-1778076000-1778083200@www.nwomcfs.ca
SUMMARY:Fort Frances - Drop in Beading
DESCRIPTION:
URL:https://www.nwomcfs.ca/events/fort-frances-drop-in-beading-2/2026-05-06/
LOCATION:FFR NWOMCFS Office\, 815 Williams Ave\, Fort Frances\, ON\, Canada
CATEGORIES:Fort Frances
ORGANIZER;CN="Emily Hyatt":MAILTO:Emily.Hyatt@nwomcfs.ca
END:VEVENT
BEGIN:VEVENT
DTSTART;TZID=America/Winnipeg:20260506T110000
DTEND;TZID=America/Winnipeg:20260506T123000
DTSTAMP:20260423T181307
CREATED:20260422T191244Z
LAST-MODIFIED:20260415T191747Z
UID:10006591-1778065200-1778070600@www.nwomcfs.ca
SUMMARY:Dryden -Métis Beaders
DESCRIPTION:
URL:https://www.nwomcfs.ca/events/dryden-metis-beaders/2026-05-06/
LOCATION:NWOMCFS Dryden Office\, 211 Princess Street\, Dryden\, ON\, Canada
CATEGORIES:Dryden
ORGANIZER;CN="Amanda Lupien":MAILTO:amanda,lupien@nwomcfs.ca
END:VEVENT
BEGIN:VEVENT
DTSTART;TZID=America/Winnipeg:20260506T110000
DTEND;TZID=America/Winnipeg:20260506T123000
DTSTAMP:20260423T181307
CREATED:20250820T050047Z
LAST-MODIFIED:20250812T135821Z
UID:10005205-1778065200-1778070600@www.nwomcfs.ca
SUMMARY:Dryden - Métis Beaders: Drop In Beading
DESCRIPTION:
URL:https://www.nwomcfs.ca/events/dryden-metis-beaders-drop-in-beading-3/2026-05-06/
LOCATION:NWOMCFS Dryden Office – New\, 45 King Street. Upper Level\, Dryden\, ON\, P8N 1B7\, Canada
CATEGORIES:Dryden
ORGANIZER;CN="Amanda Lupien":MAILTO:amanda,lupien@nwomcfs.ca
END:VEVENT
BEGIN:VEVENT
DTSTART;TZID=America/Winnipeg:20260506T100000
DTEND;TZID=America/Winnipeg:20260506T123000
DTSTAMP:20260423T181307
CREATED:20260422T192808Z
LAST-MODIFIED:20260407T193422Z
UID:10006524-1778061600-1778070600@www.nwomcfs.ca
SUMMARY:Kenora -Dental Clinic
DESCRIPTION:
URL:https://www.nwomcfs.ca/events/kenora-dental-clinic/
LOCATION:NWOMCFS Head Office\, 1301 Railway Street\, Kenora\, ON\, P9N 0B2\, Canada
CATEGORIES:Kenora
ORGANIZER;CN="Brittany Bowman":MAILTO:Brittany.Bowman@nwomcfs.ca
END:VEVENT
BEGIN:VEVENT
DTSTART;TZID=America/Winnipeg:20260505T100000
DTEND;TZID=America/Winnipeg:20260505T130000
DTSTAMP:20260423T181307
CREATED:20260421T151829Z
LAST-MODIFIED:20260422T143825Z
UID:10006620-1777975200-1777986000@www.nwomcfs.ca
SUMMARY:Fort Frances - Red Dress Day Awareness Walk & BBQ
DESCRIPTION:
URL:https://www.nwomcfs.ca/events/fort-frances-red-dress-day-awareness-walk-bbq/
CATEGORIES:Fort Frances
END:VEVENT
BEGIN:VEVENT
DTSTART;TZID=America/Winnipeg:20260505T100000
DTEND;TZID=America/Winnipeg:20260505T120000
DTSTAMP:20260423T181307
CREATED:20260422T141203Z
LAST-MODIFIED:20260422T143853Z
UID:10006627-1777975200-1777982400@www.nwomcfs.ca
SUMMARY:Atikokan - Lets Make a Mud Kitchen!
DESCRIPTION:
URL:https://www.nwomcfs.ca/events/atikokan-lets-make-a-mud-kitchen/
LOCATION:Early On\, 324 Mercury Ave. - Side Enterance\, Atikokan\, ON\, Canada
CATEGORIES:Atikokan
ORGANIZER;CN="Cloey Brigham":MAILTO:Cloey.Brigham@nwomcfs.ca
END:VEVENT
BEGIN:VEVENT
DTSTART;TZID=America/Winnipeg:20260504T180000
DTEND;TZID=America/Winnipeg:20260504T190000
DTSTAMP:20260423T181307
CREATED:20260416T141215Z
LAST-MODIFIED:20260416T141215Z
UID:10006610-1777917600-1777921200@www.nwomcfs.ca
SUMMARY:Come Learn Michif - Classes over Zoom
DESCRIPTION:
URL:https://www.nwomcfs.ca/events/come-learn-michif-classes-over-zoom/2026-05-04/
ORGANIZER;CN="Charmaine Langlais":MAILTO:Charmaine.Langlais@nwomcfs.ca
END:VEVENT
BEGIN:VEVENT
DTSTART;TZID=America/Winnipeg:20260504T153000
DTEND;TZID=America/Winnipeg:20260504T163000
DTSTAMP:20260423T181307
CREATED:20260420T192702Z
LAST-MODIFIED:20260415T193224Z
UID:10006599-1777908600-1777912200@www.nwomcfs.ca
SUMMARY:Dryden - Métis Tween Club
DESCRIPTION:
URL:https://www.nwomcfs.ca/events/dryden-metis-tween-club/2026-05-04/
LOCATION:NWOMCFS Dryden Office – New\, 45 King Street. Upper Level\, Dryden\, ON\, P8N 1B7\, Canada
CATEGORIES:Dryden
ORGANIZER;CN="Amanda Lupien":MAILTO:amanda,lupien@nwomcfs.ca
END:VEVENT
BEGIN:VEVENT
DTSTART;TZID=America/Winnipeg:20260504T153000
DTEND;TZID=America/Winnipeg:20260504T163000
DTSTAMP:20260423T181307
CREATED:20250925T050022Z
LAST-MODIFIED:20250818T143753Z
UID:10005426-1777908600-1777912200@www.nwomcfs.ca
SUMMARY:Dryden - Métis Tween Club - Welcome back to learning\, creating & interacting
DESCRIPTION:
URL:https://www.nwomcfs.ca/events/dryden-metis-tween-club-welcome-back-to-learning-creating-interacting/2026-05-04/
LOCATION:NWOMCFS Dryden Office – New\, 45 King Street. Upper Level\, Dryden\, ON\, P8N 1B7\, Canada
CATEGORIES:Dryden
ORGANIZER;CN="Amanda Lupien":MAILTO:amanda,lupien@nwomcfs.ca
END:VEVENT
BEGIN:VEVENT
DTSTART;TZID=America/Winnipeg:20260504T100000
DTEND;TZID=America/Winnipeg:20260504T110000
DTSTAMP:20260423T181307
CREATED:20260420T193448Z
LAST-MODIFIED:20260415T194207Z
UID:10006602-1777888800-1777892400@www.nwomcfs.ca
SUMMARY:Dryden - Tot Corner
DESCRIPTION:
URL:https://www.nwomcfs.ca/events/dryden-tot-corner-2/2026-05-04/
LOCATION:NWOMCFS Dryden Office – New\, 45 King Street. Upper Level\, Dryden\, ON\, P8N 1B7\, Canada
CATEGORIES:Dryden
ORGANIZER;CN="Amanda Lupien":MAILTO:amanda,lupien@nwomcfs.ca
END:VEVENT
BEGIN:VEVENT
DTSTART;TZID=America/Winnipeg:20260501T120000
DTEND;TZID=America/Winnipeg:20260501T130000
DTSTAMP:20260423T181307
CREATED:20260417T194243Z
LAST-MODIFIED:20260415T204427Z
UID:10006605-1777636800-1777640400@www.nwomcfs.ca
SUMMARY:Atikokan - Join your Métis Community for Lunch Time Yoga Classes
DESCRIPTION:
URL:https://www.nwomcfs.ca/events/atikokan-join-your-metis-community-for-lunch-time-yoga-classes/2026-05-01/
LOCATION:NWOMCFS Atikokan\, 227 Marks Street\, Atikokan\, Ontario\, P0T 1C0\, Canada
CATEGORIES:Atikokan
ORGANIZER;CN="Cloey Brigham":MAILTO:Cloey.Brigham@nwomcfs.ca
END:VEVENT
BEGIN:VEVENT
DTSTART;TZID=America/Winnipeg:20260501T120000
DTEND;TZID=America/Winnipeg:20260501T130000
DTSTAMP:20260423T181307
CREATED:20260417T191823Z
LAST-MODIFIED:20260415T193329Z
UID:10006594-1777636800-1777640400@www.nwomcfs.ca
SUMMARY:Dryden High School Métis Students - Lunch Time Drop In
DESCRIPTION:
URL:https://www.nwomcfs.ca/events/dryden-high-school-metis-students-lunch-time-drop-in/2026-05-01/
LOCATION:NWOMCFS Dryden Office\, 211 Princess Street\, Dryden\, ON\, Canada
CATEGORIES:Dryden
END:VEVENT
BEGIN:VEVENT
DTSTART;TZID=America/Winnipeg:20260430T153000
DTEND;TZID=America/Winnipeg:20260430T170000
DTSTAMP:20260423T181307
CREATED:20260422T141658Z
LAST-MODIFIED:20260422T143933Z
UID:10006628-1777563000-1777568400@www.nwomcfs.ca
SUMMARY:Atikokan - Mother's Day Cookie Decorating!
DESCRIPTION:
URL:https://www.nwomcfs.ca/events/atikokan-mothers-day-cookie-decorating/
LOCATION:Early On\, 324 Mercury Ave. - Side Enterance\, Atikokan\, ON\, Canada
CATEGORIES:Atikokan
ORGANIZER;CN="Cloey Brigham":MAILTO:Cloey.Brigham@nwomcfs.ca
END:VEVENT
BEGIN:VEVENT
DTSTART;TZID=America/Winnipeg:20260430T153000
DTEND;TZID=America/Winnipeg:20260430T170000
DTSTAMP:20260423T181307
CREATED:20260319T050008Z
LAST-MODIFIED:20260318T161618Z
UID:10006460-1777563000-1777568400@www.nwomcfs.ca
SUMMARY:Dryden - Babysitting Course
DESCRIPTION:
URL:https://www.nwomcfs.ca/events/10387/2026-04-30/
LOCATION:NWOMCFS Dryden Office – New\, 45 King Street. Upper Level\, Dryden\, ON\, P8N 1B7\, Canada
CATEGORIES:Dryden
ORGANIZER;CN="Amanda Lupien":MAILTO:amanda,lupien@nwomcfs.ca
END:VEVENT
BEGIN:VEVENT
DTSTART;TZID=America/Winnipeg:20260430T150000
DTEND;TZID=America/Winnipeg:20260430T163000
DTSTAMP:20260423T181307
CREATED:20260319T212143Z
LAST-MODIFIED:20260409T204936Z
UID:10006481-1777561200-1777566600@www.nwomcfs.ca
SUMMARY:Fort Frances - KIDS After School Program - Postponed until June!
DESCRIPTION:
URL:https://www.nwomcfs.ca/events/fort-frances-kids-after-school-program-2/2026-04-30/
LOCATION:FFR NWOMCFS Office\, 815 Williams Ave\, Fort Frances\, ON\, Canada
CATEGORIES:Fort Frances
ORGANIZER;CN="Jasmine Neault":MAILTO:Jasmine.Neault@nwomcfs.ca
END:VEVENT
BEGIN:VEVENT
DTSTART;TZID=America/Winnipeg:20260430T080000
DTEND;TZID=America/Winnipeg:20260430T120000
DTSTAMP:20260423T181307
CREATED:20260402T201524Z
LAST-MODIFIED:20260402T212508Z
UID:10006519-1777536000-1777550400@www.nwomcfs.ca
SUMMARY:Kenora- Join Your Métis Community for Drop in Beading!
DESCRIPTION:
URL:https://www.nwomcfs.ca/events/kenora-drop-in-beading/2026-04-30/
LOCATION:NWOMCFS Head Office\, 1301 Railway Street\, Kenora\, ON\, P9N 0B2\, Canada
CATEGORIES:Kenora
ORGANIZER;CN="Bailey Hicks":MAILTO:Bailey.Hicks@nwomcfs.ca
END:VEVENT
BEGIN:VEVENT
DTSTART;TZID=America/Winnipeg:20260429T180000
DTEND;TZID=America/Winnipeg:20260429T200000
DTSTAMP:20260423T181307
CREATED:20260415T155148Z
LAST-MODIFIED:20260415T163731Z
UID:10006585-1777485600-1777492800@www.nwomcfs.ca
SUMMARY:Virtual Cooking - Join your Métis Community
DESCRIPTION:
URL:https://www.nwomcfs.ca/events/virtual-cooking-join-your-metis-community/
ORGANIZER;CN="Charmaine Langlais":MAILTO:Charmaine.Langlais@nwomcfs.ca
END:VEVENT
BEGIN:VEVENT
DTSTART;TZID=America/Winnipeg:20260429T160000
DTEND;TZID=America/Winnipeg:20260429T173000
DTSTAMP:20260423T181307
CREATED:20260325T050046Z
LAST-MODIFIED:20260320T191409Z
UID:10006487-1777478400-1777483800@www.nwomcfs.ca
SUMMARY:Atikokan - Your're The Chef - 5 Week Fun Cooking Class For Kids
DESCRIPTION:
URL:https://www.nwomcfs.ca/events/atikokan-yourre-the-chef-5-week-fun-cooking-class-for-kids/2026-04-29/
LOCATION:Atikokan Community Fellowship\, 410 Front Street\, Atikokan\, ON\, P0T 1C0\, Canada
CATEGORIES:Atikokan
ORGANIZER;CN="Korri Loveday":MAILTO:Korri.Loveday@nwomcfs.ca
END:VEVENT
BEGIN:VEVENT
DTSTART;TZID=America/Winnipeg:20260429T140000
DTEND;TZID=America/Winnipeg:20260429T160000
DTSTAMP:20260423T181307
CREATED:20260331T143309Z
LAST-MODIFIED:20260331T143309Z
UID:10006506-1777471200-1777478400@www.nwomcfs.ca
SUMMARY:Fort Frances\, Drop in Beading.
DESCRIPTION:
URL:https://www.nwomcfs.ca/events/fort-frances-drop-in-beading/2026-04-29/
LOCATION:FFR NWOMCFS Office\, 815 Williams Ave\, Fort Frances\, ON\, Canada
CATEGORIES:Fort Frances
ORGANIZER;CN="Emily Hyatt":MAILTO:Emily.Hyatt@nwomcfs.ca
END:VEVENT
BEGIN:VEVENT
DTSTART;TZID=America/Winnipeg:20260429T110000
DTEND;TZID=America/Winnipeg:20260429T123000
DTSTAMP:20260423T181307
CREATED:20260318T050007Z
LAST-MODIFIED:20260312T155544Z
UID:10006470-1777460400-1777465800@www.nwomcfs.ca
SUMMARY:Dryden - Drop In Beading
DESCRIPTION:
URL:https://www.nwomcfs.ca/events/dryden-drop-in-beading/2026-04-29/
LOCATION:NWOMCFS Dryden Office – New\, 45 King Street. Upper Level\, Dryden\, ON\, P8N 1B7\, Canada
CATEGORIES:Dryden
ORGANIZER;CN="Amanda Lupien":MAILTO:amanda,lupien@nwomcfs.ca
END:VEVENT
END:VCALENDAR