BEGIN:VCALENDAR
VERSION:2.0
PRODID:-//Northwestern Ontario Métis Child and Family Services - ECPv6.15.13//NONSGML v1.0//EN
CALSCALE:GREGORIAN
METHOD:PUBLISH
X-WR-CALNAME:Northwestern Ontario Métis Child and Family Services
X-ORIGINAL-URL:https://www.nwomcfs.ca
X-WR-CALDESC:Events for Northwestern Ontario Métis Child and Family Services
REFRESH-INTERVAL;VALUE=DURATION:PT1H
X-Robots-Tag:noindex
X-PUBLISHED-TTL:PT1H
BEGIN:VTIMEZONE
TZID:America/Winnipeg
BEGIN:DAYLIGHT
TZOFFSETFROM:-0600
TZOFFSETTO:-0500
TZNAME:CDT
DTSTART:20250309T080000
END:DAYLIGHT
BEGIN:STANDARD
TZOFFSETFROM:-0500
TZOFFSETTO:-0600
TZNAME:CST
DTSTART:20251102T070000
END:STANDARD
BEGIN:DAYLIGHT
TZOFFSETFROM:-0600
TZOFFSETTO:-0500
TZNAME:CDT
DTSTART:20260308T080000
END:DAYLIGHT
BEGIN:STANDARD
TZOFFSETFROM:-0500
TZOFFSETTO:-0600
TZNAME:CST
DTSTART:20261101T070000
END:STANDARD
BEGIN:DAYLIGHT
TZOFFSETFROM:-0600
TZOFFSETTO:-0500
TZNAME:CDT
DTSTART:20270314T080000
END:DAYLIGHT
BEGIN:STANDARD
TZOFFSETFROM:-0500
TZOFFSETTO:-0600
TZNAME:CST
DTSTART:20271107T070000
END:STANDARD
END:VTIMEZONE
BEGIN:VEVENT
DTSTART;TZID=America/Winnipeg:20260417T160000
DTEND;TZID=America/Winnipeg:20260417T180000
DTSTAMP:20260423T161533
CREATED:20260403T050018Z
LAST-MODIFIED:20260326T152708Z
UID:10006427-1776441600-1776448800@www.nwomcfs.ca
SUMMARY:Dryden - Join You NWO Métis Community in Cedar Picking
DESCRIPTION:
URL:https://www.nwomcfs.ca/events/dryden-join-you-nwo-metis-community-in-cedar-picking/
LOCATION:Pine Tree Park\, Bay Street\, Vermilion Bay\, ON\, P0V 2V0\, Canada
CATEGORIES:Dryden
ORGANIZER;CN="Angelica Van Bastelaere":MAILTO:Angelica.VanBastelaere@nwomcfs.ca
END:VEVENT
BEGIN:VEVENT
DTSTART;TZID=America/Winnipeg:20260417T120000
DTEND;TZID=America/Winnipeg:20260417T130000
DTSTAMP:20260423T161533
CREATED:20260330T210121Z
LAST-MODIFIED:20260415T173630Z
UID:10006500-1776427200-1776430800@www.nwomcfs.ca
SUMMARY:Fort Frances - Join Your Métis Community for Lunchtime Yoga
DESCRIPTION:
URL:https://www.nwomcfs.ca/events/fort-frances-join-your-metis-community-for-lunchtime-yoga/2026-04-17/
LOCATION:FFR NWOMCFS Office\, 815 Williams Ave\, Fort Frances\, ON\, Canada
CATEGORIES:Fort Frances
ORGANIZER;CN="Emily Hyatt":MAILTO:Emily.Hyatt@nwomcfs.ca
END:VEVENT
BEGIN:VEVENT
DTSTART;TZID=America/Winnipeg:20260417T120000
DTEND;TZID=America/Winnipeg:20260417T130000
DTSTAMP:20260423T161533
CREATED:20260320T050017Z
LAST-MODIFIED:20260312T160503Z
UID:10006473-1776427200-1776430800@www.nwomcfs.ca
SUMMARY:Métis Students - Dryden High School Lunch Time Drop-IN
DESCRIPTION:
URL:https://www.nwomcfs.ca/events/metis-students-dryden-high-school-lunch-time-drop-in/2026-04-17/
LOCATION:NWOMCFS Dryden Office – New\, 45 King Street. Upper Level\, Dryden\, ON\, P8N 1B7\, Canada
CATEGORIES:Dryden
ORGANIZER;CN="Amanda Lupien":MAILTO:amanda,lupien@nwomcfs.ca
END:VEVENT
BEGIN:VEVENT
DTSTART;TZID=America/Winnipeg:20260416T153000
DTEND;TZID=America/Winnipeg:20260416T170000
DTSTAMP:20260423T161533
CREATED:20260319T050008Z
LAST-MODIFIED:20260318T161618Z
UID:10006458-1776353400-1776358800@www.nwomcfs.ca
SUMMARY:Dryden - Babysitting Course
DESCRIPTION:
URL:https://www.nwomcfs.ca/events/10387/2026-04-16/
LOCATION:NWOMCFS Dryden Office – New\, 45 King Street. Upper Level\, Dryden\, ON\, P8N 1B7\, Canada
CATEGORIES:Dryden
ORGANIZER;CN="Amanda Lupien":MAILTO:amanda,lupien@nwomcfs.ca
END:VEVENT
BEGIN:VEVENT
DTSTART;TZID=America/Winnipeg:20260416T150000
DTEND;TZID=America/Winnipeg:20260416T163000
DTSTAMP:20260423T161533
CREATED:20260319T212143Z
LAST-MODIFIED:20260409T204936Z
UID:10006479-1776351600-1776357000@www.nwomcfs.ca
SUMMARY:Fort Frances - KIDS After School Program - Postponed until June!
DESCRIPTION:
URL:https://www.nwomcfs.ca/events/fort-frances-kids-after-school-program-2/2026-04-16/
LOCATION:FFR NWOMCFS Office\, 815 Williams Ave\, Fort Frances\, ON\, Canada
CATEGORIES:Fort Frances
ORGANIZER;CN="Jasmine Neault":MAILTO:Jasmine.Neault@nwomcfs.ca
END:VEVENT
BEGIN:VEVENT
DTSTART;TZID=America/Winnipeg:20260416T080000
DTEND;TZID=America/Winnipeg:20260416T120000
DTSTAMP:20260423T161533
CREATED:20260402T201524Z
LAST-MODIFIED:20260402T212508Z
UID:10006516-1776326400-1776340800@www.nwomcfs.ca
SUMMARY:Kenora- Join Your Métis Community for Drop in Beading!
DESCRIPTION:
URL:https://www.nwomcfs.ca/events/kenora-drop-in-beading/2026-04-16/
LOCATION:NWOMCFS Head Office\, 1301 Railway Street\, Kenora\, ON\, P9N 0B2\, Canada
CATEGORIES:Kenora
ORGANIZER;CN="Bailey Hicks":MAILTO:Bailey.Hicks@nwomcfs.ca
END:VEVENT
BEGIN:VEVENT
DTSTART;TZID=America/Winnipeg:20260415T174500
DTEND;TZID=America/Winnipeg:20260415T190000
DTSTAMP:20260423T161533
CREATED:20260401T050042Z
LAST-MODIFIED:20260320T190439Z
UID:10006483-1776275100-1776279600@www.nwomcfs.ca
SUMMARY:Atikokan - Métis Family Swim Night
DESCRIPTION:
URL:https://www.nwomcfs.ca/events/atikokan-metis-family-swim-night/
LOCATION:Atikokan Recreational and Wellness Centre\, 223 White Street\, Atikokan\, ON\, P0T 0B3\, Canada
CATEGORIES:Atikokan
ORGANIZER;CN="Cloey Brigham":MAILTO:Cloey.Brigham@nwomcfs.ca
END:VEVENT
BEGIN:VEVENT
DTSTART;TZID=America/Winnipeg:20260415T160000
DTEND;TZID=America/Winnipeg:20260415T173000
DTSTAMP:20260423T161533
CREATED:20260325T050046Z
LAST-MODIFIED:20260320T191409Z
UID:10006485-1776268800-1776274200@www.nwomcfs.ca
SUMMARY:Atikokan - Your're The Chef - 5 Week Fun Cooking Class For Kids
DESCRIPTION:
URL:https://www.nwomcfs.ca/events/atikokan-yourre-the-chef-5-week-fun-cooking-class-for-kids/2026-04-15/
LOCATION:Atikokan Community Fellowship\, 410 Front Street\, Atikokan\, ON\, P0T 1C0\, Canada
CATEGORIES:Atikokan
ORGANIZER;CN="Korri Loveday":MAILTO:Korri.Loveday@nwomcfs.ca
END:VEVENT
BEGIN:VEVENT
DTSTART;TZID=America/Winnipeg:20260415T140000
DTEND;TZID=America/Winnipeg:20260415T160000
DTSTAMP:20260423T161533
CREATED:20260331T143309Z
LAST-MODIFIED:20260331T143309Z
UID:10006504-1776261600-1776268800@www.nwomcfs.ca
SUMMARY:Fort Frances\, Drop in Beading.
DESCRIPTION:
URL:https://www.nwomcfs.ca/events/fort-frances-drop-in-beading/2026-04-15/
LOCATION:FFR NWOMCFS Office\, 815 Williams Ave\, Fort Frances\, ON\, Canada
CATEGORIES:Fort Frances
ORGANIZER;CN="Emily Hyatt":MAILTO:Emily.Hyatt@nwomcfs.ca
END:VEVENT
BEGIN:VEVENT
DTSTART;TZID=America/Winnipeg:20260415T110000
DTEND;TZID=America/Winnipeg:20260415T123000
DTSTAMP:20260423T161533
CREATED:20260318T050007Z
LAST-MODIFIED:20260312T155544Z
UID:10006468-1776250800-1776256200@www.nwomcfs.ca
SUMMARY:Dryden - Drop In Beading
DESCRIPTION:
URL:https://www.nwomcfs.ca/events/dryden-drop-in-beading/2026-04-15/
LOCATION:NWOMCFS Dryden Office – New\, 45 King Street. Upper Level\, Dryden\, ON\, P8N 1B7\, Canada
CATEGORIES:Dryden
ORGANIZER;CN="Amanda Lupien":MAILTO:amanda,lupien@nwomcfs.ca
END:VEVENT
BEGIN:VEVENT
DTSTART;TZID=America/Winnipeg:20260415T110000
DTEND;TZID=America/Winnipeg:20260415T123000
DTSTAMP:20260423T161533
CREATED:20250820T050047Z
LAST-MODIFIED:20250812T135821Z
UID:10005202-1776250800-1776256200@www.nwomcfs.ca
SUMMARY:Dryden - Métis Beaders: Drop In Beading
DESCRIPTION:
URL:https://www.nwomcfs.ca/events/dryden-metis-beaders-drop-in-beading-3/2026-04-15/
LOCATION:NWOMCFS Dryden Office – New\, 45 King Street. Upper Level\, Dryden\, ON\, P8N 1B7\, Canada
CATEGORIES:Dryden
ORGANIZER;CN="Amanda Lupien":MAILTO:amanda,lupien@nwomcfs.ca
END:VEVENT
BEGIN:VEVENT
DTSTART;TZID=America/Winnipeg:20260414T170000
DTEND;TZID=America/Winnipeg:20260414T183000
DTSTAMP:20260423T161533
CREATED:20260401T050030Z
LAST-MODIFIED:20260309T162525Z
UID:10006446-1776186000-1776191400@www.nwomcfs.ca
SUMMARY:Kenora - Join you Métis Community to Build Your Own Hummingbird Feeder
DESCRIPTION:
URL:https://www.nwomcfs.ca/events/kenora-join-you-metis-community-to-build-your-own-hummingbird-feeder/
LOCATION:NWOMCFS Head Office\, 1301 Railway Street\, Kenora\, ON\, P9N 0B2\, Canada
CATEGORIES:Kenora
ORGANIZER;CN="Brittany Bowman":MAILTO:Brittany.Bowman@nwomcfs.ca
END:VEVENT
BEGIN:VEVENT
DTSTART;TZID=America/Winnipeg:20260414T100000
DTEND;TZID=America/Winnipeg:20260414T120000
DTSTAMP:20260423T161533
CREATED:20260402T201524Z
LAST-MODIFIED:20260402T212508Z
UID:10006515-1776160800-1776168000@www.nwomcfs.ca
SUMMARY:Kenora- Join Your Métis Community for Drop in Beading!
DESCRIPTION:
URL:https://www.nwomcfs.ca/events/kenora-drop-in-beading/2026-04-14/
LOCATION:NWOMCFS Head Office\, 1301 Railway Street\, Kenora\, ON\, P9N 0B2\, Canada
CATEGORIES:Kenora
ORGANIZER;CN="Bailey Hicks":MAILTO:Bailey.Hicks@nwomcfs.ca
END:VEVENT
BEGIN:VEVENT
DTSTART;TZID=America/Winnipeg:20260414T100000
DTEND;TZID=America/Winnipeg:20260414T120000
DTSTAMP:20260423T161533
CREATED:20260401T165758Z
LAST-MODIFIED:20260415T173543Z
UID:10006508-1776160800-1776168000@www.nwomcfs.ca
SUMMARY:Atikokan! - Family Pebble Art!
DESCRIPTION:
URL:https://www.nwomcfs.ca/events/atikokan-family-pebble-art/
LOCATION:NWOMCFS Atikokan\, 227 Marks Street\, Atikokan\, Ontario\, P0T 1C0\, Canada
CATEGORIES:Atikokan
ORGANIZER;CN="Cloey Brigham":MAILTO:Cloey.Brigham@nwomcfs.ca
END:VEVENT
BEGIN:VEVENT
DTSTART;TZID=America/Winnipeg:20260413T153000
DTEND;TZID=America/Winnipeg:20260413T163000
DTSTAMP:20260423T161533
CREATED:20250925T050022Z
LAST-MODIFIED:20250818T143753Z
UID:10005423-1776094200-1776097800@www.nwomcfs.ca
SUMMARY:Dryden - Métis Tween Club - Welcome back to learning\, creating & interacting
DESCRIPTION:
URL:https://www.nwomcfs.ca/events/dryden-metis-tween-club-welcome-back-to-learning-creating-interacting/2026-04-13/
LOCATION:NWOMCFS Dryden Office – New\, 45 King Street. Upper Level\, Dryden\, ON\, P8N 1B7\, Canada
CATEGORIES:Dryden
ORGANIZER;CN="Amanda Lupien":MAILTO:amanda,lupien@nwomcfs.ca
END:VEVENT
BEGIN:VEVENT
DTSTART;TZID=America/Winnipeg:20260410T160000
DTEND;TZID=America/Winnipeg:20260410T180000
DTSTAMP:20260423T161533
CREATED:20260326T152615Z
LAST-MODIFIED:20260326T152615Z
UID:10006493-1775836800-1775844000@www.nwomcfs.ca
SUMMARY:Dryden - Métis Community Beading Circle
DESCRIPTION:
URL:https://www.nwomcfs.ca/events/dryden-metis-community-beading-circle/
LOCATION:NWOMCFS Dryden Office – New\, 45 King Street. Upper Level\, Dryden\, ON\, P8N 1B7\, Canada
CATEGORIES:Dryden
ORGANIZER;CN="Angelica Van Bastelaere":MAILTO:Angelica.VanBastelaere@nwomcfs.ca
END:VEVENT
BEGIN:VEVENT
DTSTART;TZID=America/Winnipeg:20260410T120000
DTEND;TZID=America/Winnipeg:20260416T130000
DTSTAMP:20260423T161533
CREATED:20260330T210121Z
LAST-MODIFIED:20260415T173630Z
UID:10006499-1775822400-1776344400@www.nwomcfs.ca
SUMMARY:Fort Frances - Join Your Métis Community for Lunchtime Yoga
DESCRIPTION:
URL:https://www.nwomcfs.ca/events/fort-frances-join-your-metis-community-for-lunchtime-yoga/2026-04-10/
LOCATION:FFR NWOMCFS Office\, 815 Williams Ave\, Fort Frances\, ON\, Canada
CATEGORIES:Fort Frances
ORGANIZER;CN="Emily Hyatt":MAILTO:Emily.Hyatt@nwomcfs.ca
END:VEVENT
BEGIN:VEVENT
DTSTART;TZID=America/Winnipeg:20260410T120000
DTEND;TZID=America/Winnipeg:20260410T130000
DTSTAMP:20260423T161533
CREATED:20260320T050017Z
LAST-MODIFIED:20260312T160503Z
UID:10006472-1775822400-1775826000@www.nwomcfs.ca
SUMMARY:Métis Students - Dryden High School Lunch Time Drop-IN
DESCRIPTION:
URL:https://www.nwomcfs.ca/events/metis-students-dryden-high-school-lunch-time-drop-in/2026-04-10/
LOCATION:NWOMCFS Dryden Office – New\, 45 King Street. Upper Level\, Dryden\, ON\, P8N 1B7\, Canada
CATEGORIES:Dryden
ORGANIZER;CN="Amanda Lupien":MAILTO:amanda,lupien@nwomcfs.ca
END:VEVENT
BEGIN:VEVENT
DTSTART;TZID=America/Winnipeg:20260409T153000
DTEND;TZID=America/Winnipeg:20260409T170000
DTSTAMP:20260423T161533
CREATED:20260319T050008Z
LAST-MODIFIED:20260318T161618Z
UID:10006457-1775748600-1775754000@www.nwomcfs.ca
SUMMARY:Dryden - Babysitting Course
DESCRIPTION:
URL:https://www.nwomcfs.ca/events/10387/2026-04-09/
LOCATION:NWOMCFS Dryden Office – New\, 45 King Street. Upper Level\, Dryden\, ON\, P8N 1B7\, Canada
CATEGORIES:Dryden
ORGANIZER;CN="Amanda Lupien":MAILTO:amanda,lupien@nwomcfs.ca
END:VEVENT
BEGIN:VEVENT
DTSTART;TZID=America/Winnipeg:20260409T150000
DTEND;TZID=America/Winnipeg:20260409T163000
DTSTAMP:20260423T161533
CREATED:20260319T212143Z
LAST-MODIFIED:20260409T204936Z
UID:10006478-1775746800-1775752200@www.nwomcfs.ca
SUMMARY:Fort Frances - KIDS After School Program - Postponed until June!
DESCRIPTION:
URL:https://www.nwomcfs.ca/events/fort-frances-kids-after-school-program-2/2026-04-09/
LOCATION:FFR NWOMCFS Office\, 815 Williams Ave\, Fort Frances\, ON\, Canada
CATEGORIES:Fort Frances
ORGANIZER;CN="Jasmine Neault":MAILTO:Jasmine.Neault@nwomcfs.ca
END:VEVENT
BEGIN:VEVENT
DTSTART;TZID=America/Winnipeg:20260408T170000
DTEND;TZID=America/Winnipeg:20260408T190000
DTSTAMP:20260423T161533
CREATED:20260401T175204Z
LAST-MODIFIED:20260401T192626Z
UID:10006510-1775667600-1775674800@www.nwomcfs.ca
SUMMARY:Join your Métis Community for a Red Dress Art Workshop!
DESCRIPTION:
URL:https://www.nwomcfs.ca/events/join-your-metis-community-for-a-red-dress-art-workshop/
LOCATION:FFR NWOMCFS Office\, 815 Williams Ave\, Fort Frances\, ON\, Canada
CATEGORIES:Fort Frances
ORGANIZER;CN="Charmaine Langlais":MAILTO:Charmaine.Langlais@nwomcfs.ca
END:VEVENT
BEGIN:VEVENT
DTSTART;TZID=America/Winnipeg:20260408T160000
DTEND;TZID=America/Winnipeg:20260408T173000
DTSTAMP:20260423T161533
CREATED:20260325T050046Z
LAST-MODIFIED:20260320T191409Z
UID:10006484-1775664000-1775669400@www.nwomcfs.ca
SUMMARY:Atikokan - Your're The Chef - 5 Week Fun Cooking Class For Kids
DESCRIPTION:
URL:https://www.nwomcfs.ca/events/atikokan-yourre-the-chef-5-week-fun-cooking-class-for-kids/2026-04-08/
LOCATION:Atikokan Community Fellowship\, 410 Front Street\, Atikokan\, ON\, P0T 1C0\, Canada
CATEGORIES:Atikokan
ORGANIZER;CN="Korri Loveday":MAILTO:Korri.Loveday@nwomcfs.ca
END:VEVENT
BEGIN:VEVENT
DTSTART;TZID=America/Winnipeg:20260408T140000
DTEND;TZID=America/Winnipeg:20260408T160000
DTSTAMP:20260423T161533
CREATED:20260331T143309Z
LAST-MODIFIED:20260331T143309Z
UID:10006503-1775656800-1775664000@www.nwomcfs.ca
SUMMARY:Fort Frances\, Drop in Beading.
DESCRIPTION:
URL:https://www.nwomcfs.ca/events/fort-frances-drop-in-beading/2026-04-08/
LOCATION:FFR NWOMCFS Office\, 815 Williams Ave\, Fort Frances\, ON\, Canada
CATEGORIES:Fort Frances
ORGANIZER;CN="Emily Hyatt":MAILTO:Emily.Hyatt@nwomcfs.ca
END:VEVENT
BEGIN:VEVENT
DTSTART;TZID=America/Winnipeg:20260408T110000
DTEND;TZID=America/Winnipeg:20260408T123000
DTSTAMP:20260423T161533
CREATED:20260318T050007Z
LAST-MODIFIED:20260312T155544Z
UID:10006467-1775646000-1775651400@www.nwomcfs.ca
SUMMARY:Dryden - Drop In Beading
DESCRIPTION:
URL:https://www.nwomcfs.ca/events/dryden-drop-in-beading/2026-04-08/
LOCATION:NWOMCFS Dryden Office – New\, 45 King Street. Upper Level\, Dryden\, ON\, P8N 1B7\, Canada
CATEGORIES:Dryden
ORGANIZER;CN="Amanda Lupien":MAILTO:amanda,lupien@nwomcfs.ca
END:VEVENT
BEGIN:VEVENT
DTSTART;TZID=America/Winnipeg:20260408T110000
DTEND;TZID=America/Winnipeg:20260408T123000
DTSTAMP:20260423T161533
CREATED:20250820T050047Z
LAST-MODIFIED:20250812T135821Z
UID:10005201-1775646000-1775651400@www.nwomcfs.ca
SUMMARY:Dryden - Métis Beaders: Drop In Beading
DESCRIPTION:
URL:https://www.nwomcfs.ca/events/dryden-metis-beaders-drop-in-beading-3/2026-04-08/
LOCATION:NWOMCFS Dryden Office – New\, 45 King Street. Upper Level\, Dryden\, ON\, P8N 1B7\, Canada
CATEGORIES:Dryden
ORGANIZER;CN="Amanda Lupien":MAILTO:amanda,lupien@nwomcfs.ca
END:VEVENT
BEGIN:VEVENT
DTSTART;VALUE=DATE:20260408
DTEND;VALUE=DATE:20260409
DTSTAMP:20260423T161533
CREATED:20260407T174149Z
LAST-MODIFIED:20260407T174149Z
UID:10006523-1775606400-1775692799@www.nwomcfs.ca
SUMMARY:International Day of Pink-April 8th\, 2026
DESCRIPTION:
URL:https://www.nwomcfs.ca/events/international-day-of-pink-april-8th-2026/
END:VEVENT
BEGIN:VEVENT
DTSTART;TZID=America/Winnipeg:20260407T100000
DTEND;TZID=America/Winnipeg:20260407T120000
DTSTAMP:20260423T161533
CREATED:20260402T201524Z
LAST-MODIFIED:20260402T212508Z
UID:10006514-1775556000-1775563200@www.nwomcfs.ca
SUMMARY:Kenora- Join Your Métis Community for Drop in Beading!
DESCRIPTION:
URL:https://www.nwomcfs.ca/events/kenora-drop-in-beading/2026-04-07/
LOCATION:NWOMCFS Head Office\, 1301 Railway Street\, Kenora\, ON\, P9N 0B2\, Canada
CATEGORIES:Kenora
ORGANIZER;CN="Bailey Hicks":MAILTO:Bailey.Hicks@nwomcfs.ca
END:VEVENT
BEGIN:VEVENT
DTSTART;TZID=America/Winnipeg:20260407T080000
DTEND;TZID=America/Winnipeg:20260412T170000
DTSTAMP:20260423T161533
CREATED:20260407T135218Z
LAST-MODIFIED:20260407T135218Z
UID:10006522-1775548800-1776013200@www.nwomcfs.ca
SUMMARY:Michif Word of the Week-Happy Easter
DESCRIPTION:
URL:https://www.nwomcfs.ca/events/michif-word-of-the-week-happy-easter/
END:VEVENT
BEGIN:VEVENT
DTSTART;TZID=America/Winnipeg:20260406T153000
DTEND;TZID=America/Winnipeg:20260406T163000
DTSTAMP:20260423T161533
CREATED:20250925T050022Z
LAST-MODIFIED:20250818T143753Z
UID:10005422-1775489400-1775493000@www.nwomcfs.ca
SUMMARY:Dryden - Métis Tween Club - Welcome back to learning\, creating & interacting
DESCRIPTION:
URL:https://www.nwomcfs.ca/events/dryden-metis-tween-club-welcome-back-to-learning-creating-interacting/2026-04-06/
LOCATION:NWOMCFS Dryden Office – New\, 45 King Street. Upper Level\, Dryden\, ON\, P8N 1B7\, Canada
CATEGORIES:Dryden
ORGANIZER;CN="Amanda Lupien":MAILTO:amanda,lupien@nwomcfs.ca
END:VEVENT
BEGIN:VEVENT
DTSTART;TZID=America/Winnipeg:20260404T130000
DTEND;TZID=America/Winnipeg:20260404T153000
DTSTAMP:20260423T161533
CREATED:20260320T050034Z
LAST-MODIFIED:20260302T192036Z
UID:10006417-1775307600-1775316600@www.nwomcfs.ca
SUMMARY:Atikokan - Please join us for a ... CHILDREN'S EASTER EGG HUNT
DESCRIPTION:
URL:https://www.nwomcfs.ca/events/atikokan-please-join-us-for-a-childrens-easter-egg-hunt/
LOCATION:The Gathering Place\, 25 Rawn Road\, Atikokan\, ON P0T 1C0\, Canada
CATEGORIES:Atikokan
END:VEVENT
END:VCALENDAR