BEGIN:VCALENDAR
VERSION:2.0
PRODID:-//Northwestern Ontario Métis Child and Family Services - ECPv6.15.13//NONSGML v1.0//EN
CALSCALE:GREGORIAN
METHOD:PUBLISH
X-WR-CALNAME:Northwestern Ontario Métis Child and Family Services
X-ORIGINAL-URL:https://www.nwomcfs.ca
X-WR-CALDESC:Events for Northwestern Ontario Métis Child and Family Services
REFRESH-INTERVAL;VALUE=DURATION:PT1H
X-Robots-Tag:noindex
X-PUBLISHED-TTL:PT1H
BEGIN:VTIMEZONE
TZID:America/Winnipeg
BEGIN:DAYLIGHT
TZOFFSETFROM:-0600
TZOFFSETTO:-0500
TZNAME:CDT
DTSTART:20250309T080000
END:DAYLIGHT
BEGIN:STANDARD
TZOFFSETFROM:-0500
TZOFFSETTO:-0600
TZNAME:CST
DTSTART:20251102T070000
END:STANDARD
BEGIN:DAYLIGHT
TZOFFSETFROM:-0600
TZOFFSETTO:-0500
TZNAME:CDT
DTSTART:20260308T080000
END:DAYLIGHT
BEGIN:STANDARD
TZOFFSETFROM:-0500
TZOFFSETTO:-0600
TZNAME:CST
DTSTART:20261101T070000
END:STANDARD
BEGIN:DAYLIGHT
TZOFFSETFROM:-0600
TZOFFSETTO:-0500
TZNAME:CDT
DTSTART:20270314T080000
END:DAYLIGHT
BEGIN:STANDARD
TZOFFSETFROM:-0500
TZOFFSETTO:-0600
TZNAME:CST
DTSTART:20271107T070000
END:STANDARD
END:VTIMEZONE
BEGIN:VEVENT
DTSTART;TZID=America/Winnipeg:20260408T110000
DTEND;TZID=America/Winnipeg:20260408T123000
DTSTAMP:20260423T161829
CREATED:20260318T050007Z
LAST-MODIFIED:20260312T155544Z
UID:10006467-1775646000-1775651400@www.nwomcfs.ca
SUMMARY:Dryden - Drop In Beading
DESCRIPTION:
URL:https://www.nwomcfs.ca/events/dryden-drop-in-beading/2026-04-08/
LOCATION:NWOMCFS Dryden Office – New\, 45 King Street. Upper Level\, Dryden\, ON\, P8N 1B7\, Canada
CATEGORIES:Dryden
ORGANIZER;CN="Amanda Lupien":MAILTO:amanda,lupien@nwomcfs.ca
END:VEVENT
BEGIN:VEVENT
DTSTART;TZID=America/Winnipeg:20260408T110000
DTEND;TZID=America/Winnipeg:20260408T123000
DTSTAMP:20260423T161829
CREATED:20250820T050047Z
LAST-MODIFIED:20250812T135821Z
UID:10005201-1775646000-1775651400@www.nwomcfs.ca
SUMMARY:Dryden - Métis Beaders: Drop In Beading
DESCRIPTION:
URL:https://www.nwomcfs.ca/events/dryden-metis-beaders-drop-in-beading-3/2026-04-08/
LOCATION:NWOMCFS Dryden Office – New\, 45 King Street. Upper Level\, Dryden\, ON\, P8N 1B7\, Canada
CATEGORIES:Dryden
ORGANIZER;CN="Amanda Lupien":MAILTO:amanda,lupien@nwomcfs.ca
END:VEVENT
BEGIN:VEVENT
DTSTART;TZID=America/Winnipeg:20260406T153000
DTEND;TZID=America/Winnipeg:20260406T163000
DTSTAMP:20260423T161829
CREATED:20250925T050022Z
LAST-MODIFIED:20250818T143753Z
UID:10005422-1775489400-1775493000@www.nwomcfs.ca
SUMMARY:Dryden - Métis Tween Club - Welcome back to learning\, creating & interacting
DESCRIPTION:
URL:https://www.nwomcfs.ca/events/dryden-metis-tween-club-welcome-back-to-learning-creating-interacting/2026-04-06/
LOCATION:NWOMCFS Dryden Office – New\, 45 King Street. Upper Level\, Dryden\, ON\, P8N 1B7\, Canada
CATEGORIES:Dryden
ORGANIZER;CN="Amanda Lupien":MAILTO:amanda,lupien@nwomcfs.ca
END:VEVENT
BEGIN:VEVENT
DTSTART;TZID=America/Winnipeg:20260403T120000
DTEND;TZID=America/Winnipeg:20260403T130000
DTSTAMP:20260423T161829
CREATED:20260320T050017Z
LAST-MODIFIED:20260312T160503Z
UID:10006471-1775217600-1775221200@www.nwomcfs.ca
SUMMARY:Métis Students - Dryden High School Lunch Time Drop-IN
DESCRIPTION:
URL:https://www.nwomcfs.ca/events/metis-students-dryden-high-school-lunch-time-drop-in/2026-04-03/
LOCATION:NWOMCFS Dryden Office – New\, 45 King Street. Upper Level\, Dryden\, ON\, P8N 1B7\, Canada
CATEGORIES:Dryden
ORGANIZER;CN="Amanda Lupien":MAILTO:amanda,lupien@nwomcfs.ca
END:VEVENT
BEGIN:VEVENT
DTSTART;TZID=America/Winnipeg:20260402T153000
DTEND;TZID=America/Winnipeg:20260402T170000
DTSTAMP:20260423T161829
CREATED:20260319T050008Z
LAST-MODIFIED:20260318T161618Z
UID:10006456-1775143800-1775149200@www.nwomcfs.ca
SUMMARY:Dryden - Babysitting Course
DESCRIPTION:
URL:https://www.nwomcfs.ca/events/10387/2026-04-02/
LOCATION:NWOMCFS Dryden Office – New\, 45 King Street. Upper Level\, Dryden\, ON\, P8N 1B7\, Canada
CATEGORIES:Dryden
ORGANIZER;CN="Amanda Lupien":MAILTO:amanda,lupien@nwomcfs.ca
END:VEVENT
BEGIN:VEVENT
DTSTART;TZID=America/Winnipeg:20260401T183000
DTEND;TZID=America/Winnipeg:20260401T200000
DTSTAMP:20260423T161829
CREATED:20260318T050001Z
LAST-MODIFIED:20260318T161944Z
UID:10006462-1775068200-1775073600@www.nwomcfs.ca
SUMMARY:Dryden - Métis Families!  Food BINGO
DESCRIPTION:
URL:https://www.nwomcfs.ca/events/10399/
LOCATION:ZOOM\, Canada
CATEGORIES:Dryden
ORGANIZER;CN="Amanda Lupien":MAILTO:amanda,lupien@nwomcfs.ca
END:VEVENT
BEGIN:VEVENT
DTSTART;TZID=America/Winnipeg:20260401T110000
DTEND;TZID=America/Winnipeg:20260401T123000
DTSTAMP:20260423T161829
CREATED:20260318T050007Z
LAST-MODIFIED:20260312T155544Z
UID:10006466-1775041200-1775046600@www.nwomcfs.ca
SUMMARY:Dryden - Drop In Beading
DESCRIPTION:
URL:https://www.nwomcfs.ca/events/dryden-drop-in-beading/2026-04-01/
LOCATION:NWOMCFS Dryden Office – New\, 45 King Street. Upper Level\, Dryden\, ON\, P8N 1B7\, Canada
CATEGORIES:Dryden
ORGANIZER;CN="Amanda Lupien":MAILTO:amanda,lupien@nwomcfs.ca
END:VEVENT
BEGIN:VEVENT
DTSTART;TZID=America/Winnipeg:20260401T110000
DTEND;TZID=America/Winnipeg:20260401T123000
DTSTAMP:20260423T161829
CREATED:20250820T050047Z
LAST-MODIFIED:20250812T135821Z
UID:10005200-1775041200-1775046600@www.nwomcfs.ca
SUMMARY:Dryden - Métis Beaders: Drop In Beading
DESCRIPTION:
URL:https://www.nwomcfs.ca/events/dryden-metis-beaders-drop-in-beading-3/2026-04-01/
LOCATION:NWOMCFS Dryden Office – New\, 45 King Street. Upper Level\, Dryden\, ON\, P8N 1B7\, Canada
CATEGORIES:Dryden
ORGANIZER;CN="Amanda Lupien":MAILTO:amanda,lupien@nwomcfs.ca
END:VEVENT
BEGIN:VEVENT
DTSTART;TZID=America/Winnipeg:20260330T153000
DTEND;TZID=America/Winnipeg:20260330T163000
DTSTAMP:20260423T161829
CREATED:20260221T060016Z
LAST-MODIFIED:20260107T163235Z
UID:10006328-1774884600-1774888200@www.nwomcfs.ca
SUMMARY:Dryden - Métis Tween Club
DESCRIPTION:
URL:https://www.nwomcfs.ca/events/dryden-metis-tween-club-3/2026-03-30/
LOCATION:NWOMCFS Dryden Office – New\, 45 King Street. Upper Level\, Dryden\, ON\, P8N 1B7\, Canada
CATEGORIES:Dryden
ORGANIZER;CN="Amanda Lupien":MAILTO:amanda,lupien@nwomcfs.ca
END:VEVENT
BEGIN:VEVENT
DTSTART;TZID=America/Winnipeg:20260330T153000
DTEND;TZID=America/Winnipeg:20260330T163000
DTSTAMP:20260423T161829
CREATED:20250925T050022Z
LAST-MODIFIED:20250818T143753Z
UID:10005421-1774884600-1774888200@www.nwomcfs.ca
SUMMARY:Dryden - Métis Tween Club - Welcome back to learning\, creating & interacting
DESCRIPTION:
URL:https://www.nwomcfs.ca/events/dryden-metis-tween-club-welcome-back-to-learning-creating-interacting/2026-03-30/
LOCATION:NWOMCFS Dryden Office – New\, 45 King Street. Upper Level\, Dryden\, ON\, P8N 1B7\, Canada
CATEGORIES:Dryden
ORGANIZER;CN="Amanda Lupien":MAILTO:amanda,lupien@nwomcfs.ca
END:VEVENT
BEGIN:VEVENT
DTSTART;TZID=America/Winnipeg:20260330T100000
DTEND;TZID=America/Winnipeg:20260330T110000
DTSTAMP:20260423T161829
CREATED:20260219T060012Z
LAST-MODIFIED:20260107T161359Z
UID:10006317-1774864800-1774868400@www.nwomcfs.ca
SUMMARY:Dryden - Métis Families - Tot Corner
DESCRIPTION:
URL:https://www.nwomcfs.ca/events/dryden-metis-families-tot-corner/2026-03-30/
LOCATION:NWOMCFS Dryden Office – New\, 45 King Street. Upper Level\, Dryden\, ON\, P8N 1B7\, Canada
CATEGORIES:Dryden
ORGANIZER;CN="Amanda Lupien":MAILTO:amanda,lupien@nwomcfs.ca
END:VEVENT
BEGIN:VEVENT
DTSTART;VALUE=DATE:20260330
DTEND;VALUE=DATE:20260406
DTSTAMP:20260423T161829
CREATED:20260330T190742Z
LAST-MODIFIED:20260330T190742Z
UID:10006498-1774828800-1775433599@www.nwomcfs.ca
SUMMARY:Michif Word of the Week: KATAWASHISHIW "Beautiful"
DESCRIPTION:
URL:https://www.nwomcfs.ca/events/michif-word-of-the-week-katawashishiw-beautiful/
LOCATION:ON
CATEGORIES:Atikokan,Dryden,Fort Frances,Kenora
END:VEVENT
BEGIN:VEVENT
DTSTART;TZID=America/Winnipeg:20260327T130000
DTEND;TZID=America/Winnipeg:20260327T153000
DTSTAMP:20260423T161829
CREATED:20260312T050041Z
LAST-MODIFIED:20260312T180448Z
UID:10006425-1774616400-1774625400@www.nwomcfs.ca
SUMMARY:Dryden - Ribbon Skirt Workshop -- FULL --
DESCRIPTION:
URL:https://www.nwomcfs.ca/events/dryden-ribbon-skirt-workshop/2026-03-27/
LOCATION:NWOMCFS Dryden Office – New\, 45 King Street. Upper Level\, Dryden\, ON\, P8N 1B7\, Canada
CATEGORIES:Dryden
ORGANIZER;CN="Angelica Van Bastelaere":MAILTO:Angelica.VanBastelaere@nwomcfs.ca
END:VEVENT
BEGIN:VEVENT
DTSTART;TZID=America/Winnipeg:20260327T120000
DTEND;TZID=America/Winnipeg:20260327T130000
DTSTAMP:20260423T161829
CREATED:20260220T060015Z
LAST-MODIFIED:20260107T162236Z
UID:10006322-1774612800-1774616400@www.nwomcfs.ca
SUMMARY:Dryden - Métis Students - Lunch Time Drop-IN
DESCRIPTION:
URL:https://www.nwomcfs.ca/events/dryden-metis-students-lunch-time-drop-in/2026-03-27/
LOCATION:NWOMCFS Dryden Office – New\, 45 King Street. Upper Level\, Dryden\, ON\, P8N 1B7\, Canada
CATEGORIES:Dryden
ORGANIZER;CN="Amanda Lupien":MAILTO:amanda,lupien@nwomcfs.ca
END:VEVENT
BEGIN:VEVENT
DTSTART;TZID=America/Winnipeg:20260326T130000
DTEND;TZID=America/Winnipeg:20260326T153000
DTSTAMP:20260423T161829
CREATED:20260312T180535Z
LAST-MODIFIED:20260312T180541Z
UID:10006424-1774530000-1774539000@www.nwomcfs.ca
SUMMARY:Dryden - Ribbon Skirt Workshop -- FULL --
DESCRIPTION:
URL:https://www.nwomcfs.ca/events/dryden-ribbon-skirt-workshop-2/
LOCATION:NWOMCFS Dryden Office – New\, 45 King Street. Upper Level\, Dryden\, ON\, P8N 1B7\, Canada
CATEGORIES:Dryden
ORGANIZER;CN="Angelica Van Bastelaere":MAILTO:Angelica.VanBastelaere@nwomcfs.ca
END:VEVENT
BEGIN:VEVENT
DTSTART;TZID=America/Winnipeg:20260325T180000
DTEND;TZID=America/Winnipeg:20260325T200000
DTSTAMP:20260423T161829
CREATED:20260311T143057Z
LAST-MODIFIED:20260311T161927Z
UID:10006450-1774461600-1774468800@www.nwomcfs.ca
SUMMARY:Join your Métis Community for Virtual Cooking - Crêpes
DESCRIPTION:Please register by clicking here => https://forms.gle/81R3gJtXRmWj1eet5
URL:https://www.nwomcfs.ca/events/join-your-metis-community-for-virtual-cooking/
LOCATION:ZOOM\, Canada
CATEGORIES:Atikokan,Dryden,Fort Frances,Kenora
ORGANIZER;CN="Charmaine Langlais":MAILTO:Charmaine.Langlais@nwomcfs.ca
END:VEVENT
BEGIN:VEVENT
DTSTART;TZID=America/Winnipeg:20260325T110000
DTEND;TZID=America/Winnipeg:20260325T123000
DTSTAMP:20260423T161829
CREATED:20250820T050047Z
LAST-MODIFIED:20250812T135821Z
UID:10005199-1774436400-1774441800@www.nwomcfs.ca
SUMMARY:Dryden - Métis Beaders: Drop In Beading
DESCRIPTION:
URL:https://www.nwomcfs.ca/events/dryden-metis-beaders-drop-in-beading-3/2026-03-25/
LOCATION:NWOMCFS Dryden Office – New\, 45 King Street. Upper Level\, Dryden\, ON\, P8N 1B7\, Canada
CATEGORIES:Dryden
ORGANIZER;CN="Amanda Lupien":MAILTO:amanda,lupien@nwomcfs.ca
END:VEVENT
BEGIN:VEVENT
DTSTART;TZID=America/Winnipeg:20260323T153000
DTEND;TZID=America/Winnipeg:20260323T163000
DTSTAMP:20260423T161829
CREATED:20260221T060016Z
LAST-MODIFIED:20260107T163235Z
UID:10006327-1774279800-1774283400@www.nwomcfs.ca
SUMMARY:Dryden - Métis Tween Club
DESCRIPTION:
URL:https://www.nwomcfs.ca/events/dryden-metis-tween-club-3/2026-03-23/
LOCATION:NWOMCFS Dryden Office – New\, 45 King Street. Upper Level\, Dryden\, ON\, P8N 1B7\, Canada
CATEGORIES:Dryden
ORGANIZER;CN="Amanda Lupien":MAILTO:amanda,lupien@nwomcfs.ca
END:VEVENT
BEGIN:VEVENT
DTSTART;TZID=America/Winnipeg:20260323T153000
DTEND;TZID=America/Winnipeg:20260323T163000
DTSTAMP:20260423T161829
CREATED:20250925T050022Z
LAST-MODIFIED:20250818T143753Z
UID:10005420-1774279800-1774283400@www.nwomcfs.ca
SUMMARY:Dryden - Métis Tween Club - Welcome back to learning\, creating & interacting
DESCRIPTION:
URL:https://www.nwomcfs.ca/events/dryden-metis-tween-club-welcome-back-to-learning-creating-interacting/2026-03-23/
LOCATION:NWOMCFS Dryden Office – New\, 45 King Street. Upper Level\, Dryden\, ON\, P8N 1B7\, Canada
CATEGORIES:Dryden
ORGANIZER;CN="Amanda Lupien":MAILTO:amanda,lupien@nwomcfs.ca
END:VEVENT
BEGIN:VEVENT
DTSTART;TZID=America/Winnipeg:20260323T100000
DTEND;TZID=America/Winnipeg:20260323T110000
DTSTAMP:20260423T161829
CREATED:20260219T060012Z
LAST-MODIFIED:20260107T161359Z
UID:10006316-1774260000-1774263600@www.nwomcfs.ca
SUMMARY:Dryden - Métis Families - Tot Corner
DESCRIPTION:
URL:https://www.nwomcfs.ca/events/dryden-metis-families-tot-corner/2026-03-23/
LOCATION:NWOMCFS Dryden Office – New\, 45 King Street. Upper Level\, Dryden\, ON\, P8N 1B7\, Canada
CATEGORIES:Dryden
ORGANIZER;CN="Amanda Lupien":MAILTO:amanda,lupien@nwomcfs.ca
END:VEVENT
BEGIN:VEVENT
DTSTART;VALUE=DATE:20260323
DTEND;VALUE=DATE:20260330
DTSTAMP:20260423T161830
CREATED:20260323T184756Z
LAST-MODIFIED:20260323T184816Z
UID:10006489-1774224000-1774828799@www.nwomcfs.ca
SUMMARY:Michif Word of the Week - PRAENTAAN "Spring"
DESCRIPTION:
URL:https://www.nwomcfs.ca/events/michif-word-of-the-week-praentaan-spring/
LOCATION:ON
CATEGORIES:Atikokan,Dryden,Fort Frances,Kenora
END:VEVENT
END:VCALENDAR