BEGIN:VCALENDAR
VERSION:2.0
PRODID:-//Northwestern Ontario Métis Child and Family Services - ECPv6.15.13//NONSGML v1.0//EN
CALSCALE:GREGORIAN
METHOD:PUBLISH
X-WR-CALNAME:Northwestern Ontario Métis Child and Family Services
X-ORIGINAL-URL:https://www.nwomcfs.ca
X-WR-CALDESC:Events for Northwestern Ontario Métis Child and Family Services
REFRESH-INTERVAL;VALUE=DURATION:PT1H
X-Robots-Tag:noindex
X-PUBLISHED-TTL:PT1H
BEGIN:VTIMEZONE
TZID:America/Winnipeg
BEGIN:DAYLIGHT
TZOFFSETFROM:-0600
TZOFFSETTO:-0500
TZNAME:CDT
DTSTART:20250309T080000
END:DAYLIGHT
BEGIN:STANDARD
TZOFFSETFROM:-0500
TZOFFSETTO:-0600
TZNAME:CST
DTSTART:20251102T070000
END:STANDARD
BEGIN:DAYLIGHT
TZOFFSETFROM:-0600
TZOFFSETTO:-0500
TZNAME:CDT
DTSTART:20260308T080000
END:DAYLIGHT
BEGIN:STANDARD
TZOFFSETFROM:-0500
TZOFFSETTO:-0600
TZNAME:CST
DTSTART:20261101T070000
END:STANDARD
BEGIN:DAYLIGHT
TZOFFSETFROM:-0600
TZOFFSETTO:-0500
TZNAME:CDT
DTSTART:20270314T080000
END:DAYLIGHT
BEGIN:STANDARD
TZOFFSETFROM:-0500
TZOFFSETTO:-0600
TZNAME:CST
DTSTART:20271107T070000
END:STANDARD
BEGIN:DAYLIGHT
TZOFFSETFROM:-0600
TZOFFSETTO:-0500
TZNAME:CDT
DTSTART:20280312T080000
END:DAYLIGHT
BEGIN:STANDARD
TZOFFSETFROM:-0500
TZOFFSETTO:-0600
TZNAME:CST
DTSTART:20281105T070000
END:STANDARD
END:VTIMEZONE
BEGIN:VEVENT
DTSTART;TZID=America/Winnipeg:20261022T100000
DTEND;TZID=America/Winnipeg:20261022T120000
DTSTAMP:20260423T181441
CREATED:20260423T152932Z
LAST-MODIFIED:20260410T153724Z
UID:10006552-1792663200-1792670400@www.nwomcfs.ca
SUMMARY:Atikokan-Tea Talk and Trails
DESCRIPTION:
URL:https://www.nwomcfs.ca/events/atikokan-tea-talk-and-trails/2026-10-22/
LOCATION:NWOMCFS Atikokan\, 227 Marks Street\, Atikokan\, Ontario\, P0T 1C0\, Canada
CATEGORIES:Atikokan
ORGANIZER;CN="Cloey Brigham":MAILTO:Cloey.Brigham@nwomcfs.ca
END:VEVENT
BEGIN:VEVENT
DTSTART;TZID=America/Winnipeg:20261029T100000
DTEND;TZID=America/Winnipeg:20261029T120000
DTSTAMP:20260423T181441
CREATED:20260423T152932Z
LAST-MODIFIED:20260410T153724Z
UID:10006553-1793268000-1793275200@www.nwomcfs.ca
SUMMARY:Atikokan-Tea Talk and Trails
DESCRIPTION:
URL:https://www.nwomcfs.ca/events/atikokan-tea-talk-and-trails/2026-10-29/
LOCATION:NWOMCFS Atikokan\, 227 Marks Street\, Atikokan\, Ontario\, P0T 1C0\, Canada
CATEGORIES:Atikokan
ORGANIZER;CN="Cloey Brigham":MAILTO:Cloey.Brigham@nwomcfs.ca
END:VEVENT
BEGIN:VEVENT
DTSTART;TZID=America/Winnipeg:20261105T100000
DTEND;TZID=America/Winnipeg:20261105T120000
DTSTAMP:20260423T181441
CREATED:20260423T152932Z
LAST-MODIFIED:20260410T153724Z
UID:10006554-1793872800-1793880000@www.nwomcfs.ca
SUMMARY:Atikokan-Tea Talk and Trails
DESCRIPTION:
URL:https://www.nwomcfs.ca/events/atikokan-tea-talk-and-trails/2026-11-05/
LOCATION:NWOMCFS Atikokan\, 227 Marks Street\, Atikokan\, Ontario\, P0T 1C0\, Canada
CATEGORIES:Atikokan
ORGANIZER;CN="Cloey Brigham":MAILTO:Cloey.Brigham@nwomcfs.ca
END:VEVENT
BEGIN:VEVENT
DTSTART;TZID=America/Winnipeg:20261112T100000
DTEND;TZID=America/Winnipeg:20261112T120000
DTSTAMP:20260423T181441
CREATED:20260423T152932Z
LAST-MODIFIED:20260410T153724Z
UID:10006555-1794477600-1794484800@www.nwomcfs.ca
SUMMARY:Atikokan-Tea Talk and Trails
DESCRIPTION:
URL:https://www.nwomcfs.ca/events/atikokan-tea-talk-and-trails/2026-11-12/
LOCATION:NWOMCFS Atikokan\, 227 Marks Street\, Atikokan\, Ontario\, P0T 1C0\, Canada
CATEGORIES:Atikokan
ORGANIZER;CN="Cloey Brigham":MAILTO:Cloey.Brigham@nwomcfs.ca
END:VEVENT
BEGIN:VEVENT
DTSTART;TZID=America/Winnipeg:20261119T100000
DTEND;TZID=America/Winnipeg:20261119T120000
DTSTAMP:20260423T181441
CREATED:20260423T152932Z
LAST-MODIFIED:20260410T153724Z
UID:10006556-1795082400-1795089600@www.nwomcfs.ca
SUMMARY:Atikokan-Tea Talk and Trails
DESCRIPTION:
URL:https://www.nwomcfs.ca/events/atikokan-tea-talk-and-trails/2026-11-19/
LOCATION:NWOMCFS Atikokan\, 227 Marks Street\, Atikokan\, Ontario\, P0T 1C0\, Canada
CATEGORIES:Atikokan
ORGANIZER;CN="Cloey Brigham":MAILTO:Cloey.Brigham@nwomcfs.ca
END:VEVENT
BEGIN:VEVENT
DTSTART;TZID=America/Winnipeg:20261126T100000
DTEND;TZID=America/Winnipeg:20261126T120000
DTSTAMP:20260423T181441
CREATED:20260423T152932Z
LAST-MODIFIED:20260410T153724Z
UID:10006557-1795687200-1795694400@www.nwomcfs.ca
SUMMARY:Atikokan-Tea Talk and Trails
DESCRIPTION:
URL:https://www.nwomcfs.ca/events/atikokan-tea-talk-and-trails/2026-11-26/
LOCATION:NWOMCFS Atikokan\, 227 Marks Street\, Atikokan\, Ontario\, P0T 1C0\, Canada
CATEGORIES:Atikokan
ORGANIZER;CN="Cloey Brigham":MAILTO:Cloey.Brigham@nwomcfs.ca
END:VEVENT
BEGIN:VEVENT
DTSTART;TZID=America/Winnipeg:20261203T100000
DTEND;TZID=America/Winnipeg:20261203T120000
DTSTAMP:20260423T181441
CREATED:20260423T152932Z
LAST-MODIFIED:20260410T153724Z
UID:10006558-1796292000-1796299200@www.nwomcfs.ca
SUMMARY:Atikokan-Tea Talk and Trails
DESCRIPTION:
URL:https://www.nwomcfs.ca/events/atikokan-tea-talk-and-trails/2026-12-03/
LOCATION:NWOMCFS Atikokan\, 227 Marks Street\, Atikokan\, Ontario\, P0T 1C0\, Canada
CATEGORIES:Atikokan
ORGANIZER;CN="Cloey Brigham":MAILTO:Cloey.Brigham@nwomcfs.ca
END:VEVENT
BEGIN:VEVENT
DTSTART;TZID=America/Winnipeg:20261210T100000
DTEND;TZID=America/Winnipeg:20261210T120000
DTSTAMP:20260423T181441
CREATED:20260423T152932Z
LAST-MODIFIED:20260410T153724Z
UID:10006559-1796896800-1796904000@www.nwomcfs.ca
SUMMARY:Atikokan-Tea Talk and Trails
DESCRIPTION:
URL:https://www.nwomcfs.ca/events/atikokan-tea-talk-and-trails/2026-12-10/
LOCATION:NWOMCFS Atikokan\, 227 Marks Street\, Atikokan\, Ontario\, P0T 1C0\, Canada
CATEGORIES:Atikokan
ORGANIZER;CN="Cloey Brigham":MAILTO:Cloey.Brigham@nwomcfs.ca
END:VEVENT
BEGIN:VEVENT
DTSTART;TZID=America/Winnipeg:20261217T100000
DTEND;TZID=America/Winnipeg:20261217T120000
DTSTAMP:20260423T181441
CREATED:20260423T152932Z
LAST-MODIFIED:20260410T153724Z
UID:10006560-1797501600-1797508800@www.nwomcfs.ca
SUMMARY:Atikokan-Tea Talk and Trails
DESCRIPTION:
URL:https://www.nwomcfs.ca/events/atikokan-tea-talk-and-trails/2026-12-17/
LOCATION:NWOMCFS Atikokan\, 227 Marks Street\, Atikokan\, Ontario\, P0T 1C0\, Canada
CATEGORIES:Atikokan
ORGANIZER;CN="Cloey Brigham":MAILTO:Cloey.Brigham@nwomcfs.ca
END:VEVENT
BEGIN:VEVENT
DTSTART;TZID=America/Winnipeg:20261224T100000
DTEND;TZID=America/Winnipeg:20261224T120000
DTSTAMP:20260423T181441
CREATED:20260423T152932Z
LAST-MODIFIED:20260410T153724Z
UID:10006561-1798106400-1798113600@www.nwomcfs.ca
SUMMARY:Atikokan-Tea Talk and Trails
DESCRIPTION:
URL:https://www.nwomcfs.ca/events/atikokan-tea-talk-and-trails/2026-12-24/
LOCATION:NWOMCFS Atikokan\, 227 Marks Street\, Atikokan\, Ontario\, P0T 1C0\, Canada
CATEGORIES:Atikokan
ORGANIZER;CN="Cloey Brigham":MAILTO:Cloey.Brigham@nwomcfs.ca
END:VEVENT
BEGIN:VEVENT
DTSTART;TZID=America/Winnipeg:20261231T100000
DTEND;TZID=America/Winnipeg:20261231T120000
DTSTAMP:20260423T181441
CREATED:20260423T152932Z
LAST-MODIFIED:20260410T153724Z
UID:10006562-1798711200-1798718400@www.nwomcfs.ca
SUMMARY:Atikokan-Tea Talk and Trails
DESCRIPTION:
URL:https://www.nwomcfs.ca/events/atikokan-tea-talk-and-trails/2026-12-31/
LOCATION:NWOMCFS Atikokan\, 227 Marks Street\, Atikokan\, Ontario\, P0T 1C0\, Canada
CATEGORIES:Atikokan
ORGANIZER;CN="Cloey Brigham":MAILTO:Cloey.Brigham@nwomcfs.ca
END:VEVENT
BEGIN:VEVENT
DTSTART;TZID=America/Winnipeg:20270107T100000
DTEND;TZID=America/Winnipeg:20270107T120000
DTSTAMP:20260423T181441
CREATED:20260423T152932Z
LAST-MODIFIED:20260410T153724Z
UID:10006563-1799316000-1799323200@www.nwomcfs.ca
SUMMARY:Atikokan-Tea Talk and Trails
DESCRIPTION:
URL:https://www.nwomcfs.ca/events/atikokan-tea-talk-and-trails/2027-01-07/
LOCATION:NWOMCFS Atikokan\, 227 Marks Street\, Atikokan\, Ontario\, P0T 1C0\, Canada
CATEGORIES:Atikokan
ORGANIZER;CN="Cloey Brigham":MAILTO:Cloey.Brigham@nwomcfs.ca
END:VEVENT
BEGIN:VEVENT
DTSTART;TZID=America/Winnipeg:20270114T100000
DTEND;TZID=America/Winnipeg:20270114T120000
DTSTAMP:20260423T181441
CREATED:20260423T152932Z
LAST-MODIFIED:20260410T153724Z
UID:10006564-1799920800-1799928000@www.nwomcfs.ca
SUMMARY:Atikokan-Tea Talk and Trails
DESCRIPTION:
URL:https://www.nwomcfs.ca/events/atikokan-tea-talk-and-trails/2027-01-14/
LOCATION:NWOMCFS Atikokan\, 227 Marks Street\, Atikokan\, Ontario\, P0T 1C0\, Canada
CATEGORIES:Atikokan
ORGANIZER;CN="Cloey Brigham":MAILTO:Cloey.Brigham@nwomcfs.ca
END:VEVENT
BEGIN:VEVENT
DTSTART;TZID=America/Winnipeg:20270121T100000
DTEND;TZID=America/Winnipeg:20270121T120000
DTSTAMP:20260423T181441
CREATED:20260423T152932Z
LAST-MODIFIED:20260410T153724Z
UID:10006565-1800525600-1800532800@www.nwomcfs.ca
SUMMARY:Atikokan-Tea Talk and Trails
DESCRIPTION:
URL:https://www.nwomcfs.ca/events/atikokan-tea-talk-and-trails/2027-01-21/
LOCATION:NWOMCFS Atikokan\, 227 Marks Street\, Atikokan\, Ontario\, P0T 1C0\, Canada
CATEGORIES:Atikokan
ORGANIZER;CN="Cloey Brigham":MAILTO:Cloey.Brigham@nwomcfs.ca
END:VEVENT
BEGIN:VEVENT
DTSTART;TZID=America/Winnipeg:20270128T100000
DTEND;TZID=America/Winnipeg:20270128T120000
DTSTAMP:20260423T181441
CREATED:20260423T152932Z
LAST-MODIFIED:20260410T153724Z
UID:10006566-1801130400-1801137600@www.nwomcfs.ca
SUMMARY:Atikokan-Tea Talk and Trails
DESCRIPTION:
URL:https://www.nwomcfs.ca/events/atikokan-tea-talk-and-trails/2027-01-28/
LOCATION:NWOMCFS Atikokan\, 227 Marks Street\, Atikokan\, Ontario\, P0T 1C0\, Canada
CATEGORIES:Atikokan
ORGANIZER;CN="Cloey Brigham":MAILTO:Cloey.Brigham@nwomcfs.ca
END:VEVENT
BEGIN:VEVENT
DTSTART;TZID=America/Winnipeg:20270204T100000
DTEND;TZID=America/Winnipeg:20270204T120000
DTSTAMP:20260423T181441
CREATED:20260423T152932Z
LAST-MODIFIED:20260410T153724Z
UID:10006567-1801735200-1801742400@www.nwomcfs.ca
SUMMARY:Atikokan-Tea Talk and Trails
DESCRIPTION:
URL:https://www.nwomcfs.ca/events/atikokan-tea-talk-and-trails/2027-02-04/
LOCATION:NWOMCFS Atikokan\, 227 Marks Street\, Atikokan\, Ontario\, P0T 1C0\, Canada
CATEGORIES:Atikokan
ORGANIZER;CN="Cloey Brigham":MAILTO:Cloey.Brigham@nwomcfs.ca
END:VEVENT
BEGIN:VEVENT
DTSTART;TZID=America/Winnipeg:20270211T100000
DTEND;TZID=America/Winnipeg:20270211T120000
DTSTAMP:20260423T181441
CREATED:20260423T152932Z
LAST-MODIFIED:20260410T153724Z
UID:10006568-1802340000-1802347200@www.nwomcfs.ca
SUMMARY:Atikokan-Tea Talk and Trails
DESCRIPTION:
URL:https://www.nwomcfs.ca/events/atikokan-tea-talk-and-trails/2027-02-11/
LOCATION:NWOMCFS Atikokan\, 227 Marks Street\, Atikokan\, Ontario\, P0T 1C0\, Canada
CATEGORIES:Atikokan
ORGANIZER;CN="Cloey Brigham":MAILTO:Cloey.Brigham@nwomcfs.ca
END:VEVENT
BEGIN:VEVENT
DTSTART;TZID=America/Winnipeg:20270218T100000
DTEND;TZID=America/Winnipeg:20270218T120000
DTSTAMP:20260423T181441
CREATED:20260423T152932Z
LAST-MODIFIED:20260410T153724Z
UID:10006569-1802944800-1802952000@www.nwomcfs.ca
SUMMARY:Atikokan-Tea Talk and Trails
DESCRIPTION:
URL:https://www.nwomcfs.ca/events/atikokan-tea-talk-and-trails/2027-02-18/
LOCATION:NWOMCFS Atikokan\, 227 Marks Street\, Atikokan\, Ontario\, P0T 1C0\, Canada
CATEGORIES:Atikokan
ORGANIZER;CN="Cloey Brigham":MAILTO:Cloey.Brigham@nwomcfs.ca
END:VEVENT
BEGIN:VEVENT
DTSTART;TZID=America/Winnipeg:20270225T100000
DTEND;TZID=America/Winnipeg:20270225T120000
DTSTAMP:20260423T181441
CREATED:20260423T152932Z
LAST-MODIFIED:20260410T153724Z
UID:10006570-1803549600-1803556800@www.nwomcfs.ca
SUMMARY:Atikokan-Tea Talk and Trails
DESCRIPTION:
URL:https://www.nwomcfs.ca/events/atikokan-tea-talk-and-trails/2027-02-25/
LOCATION:NWOMCFS Atikokan\, 227 Marks Street\, Atikokan\, Ontario\, P0T 1C0\, Canada
CATEGORIES:Atikokan
ORGANIZER;CN="Cloey Brigham":MAILTO:Cloey.Brigham@nwomcfs.ca
END:VEVENT
BEGIN:VEVENT
DTSTART;TZID=America/Winnipeg:20270304T100000
DTEND;TZID=America/Winnipeg:20270304T120000
DTSTAMP:20260423T181441
CREATED:20260423T152932Z
LAST-MODIFIED:20260410T153724Z
UID:10006571-1804154400-1804161600@www.nwomcfs.ca
SUMMARY:Atikokan-Tea Talk and Trails
DESCRIPTION:
URL:https://www.nwomcfs.ca/events/atikokan-tea-talk-and-trails/2027-03-04/
LOCATION:NWOMCFS Atikokan\, 227 Marks Street\, Atikokan\, Ontario\, P0T 1C0\, Canada
CATEGORIES:Atikokan
ORGANIZER;CN="Cloey Brigham":MAILTO:Cloey.Brigham@nwomcfs.ca
END:VEVENT
BEGIN:VEVENT
DTSTART;TZID=America/Winnipeg:20270311T100000
DTEND;TZID=America/Winnipeg:20270311T120000
DTSTAMP:20260423T181441
CREATED:20260423T152932Z
LAST-MODIFIED:20260410T153724Z
UID:10006572-1804759200-1804766400@www.nwomcfs.ca
SUMMARY:Atikokan-Tea Talk and Trails
DESCRIPTION:
URL:https://www.nwomcfs.ca/events/atikokan-tea-talk-and-trails/2027-03-11/
LOCATION:NWOMCFS Atikokan\, 227 Marks Street\, Atikokan\, Ontario\, P0T 1C0\, Canada
CATEGORIES:Atikokan
ORGANIZER;CN="Cloey Brigham":MAILTO:Cloey.Brigham@nwomcfs.ca
END:VEVENT
BEGIN:VEVENT
DTSTART;TZID=America/Winnipeg:20270318T100000
DTEND;TZID=America/Winnipeg:20270318T120000
DTSTAMP:20260423T181441
CREATED:20260423T152932Z
LAST-MODIFIED:20260410T153724Z
UID:10006573-1805364000-1805371200@www.nwomcfs.ca
SUMMARY:Atikokan-Tea Talk and Trails
DESCRIPTION:
URL:https://www.nwomcfs.ca/events/atikokan-tea-talk-and-trails/2027-03-18/
LOCATION:NWOMCFS Atikokan\, 227 Marks Street\, Atikokan\, Ontario\, P0T 1C0\, Canada
CATEGORIES:Atikokan
ORGANIZER;CN="Cloey Brigham":MAILTO:Cloey.Brigham@nwomcfs.ca
END:VEVENT
BEGIN:VEVENT
DTSTART;TZID=America/Winnipeg:20270325T100000
DTEND;TZID=America/Winnipeg:20270325T120000
DTSTAMP:20260423T181441
CREATED:20260423T152932Z
LAST-MODIFIED:20260410T153724Z
UID:10006574-1805968800-1805976000@www.nwomcfs.ca
SUMMARY:Atikokan-Tea Talk and Trails
DESCRIPTION:
URL:https://www.nwomcfs.ca/events/atikokan-tea-talk-and-trails/2027-03-25/
LOCATION:NWOMCFS Atikokan\, 227 Marks Street\, Atikokan\, Ontario\, P0T 1C0\, Canada
CATEGORIES:Atikokan
ORGANIZER;CN="Cloey Brigham":MAILTO:Cloey.Brigham@nwomcfs.ca
END:VEVENT
BEGIN:VEVENT
DTSTART;TZID=America/Winnipeg:20270401T100000
DTEND;TZID=America/Winnipeg:20270401T120000
DTSTAMP:20260423T181441
CREATED:20260423T152932Z
LAST-MODIFIED:20260410T153724Z
UID:10006575-1806573600-1806580800@www.nwomcfs.ca
SUMMARY:Atikokan-Tea Talk and Trails
DESCRIPTION:
URL:https://www.nwomcfs.ca/events/atikokan-tea-talk-and-trails/2027-04-01/
LOCATION:NWOMCFS Atikokan\, 227 Marks Street\, Atikokan\, Ontario\, P0T 1C0\, Canada
CATEGORIES:Atikokan
ORGANIZER;CN="Cloey Brigham":MAILTO:Cloey.Brigham@nwomcfs.ca
END:VEVENT
BEGIN:VEVENT
DTSTART;TZID=America/Winnipeg:20270408T100000
DTEND;TZID=America/Winnipeg:20270408T120000
DTSTAMP:20260423T181441
CREATED:20260423T152932Z
LAST-MODIFIED:20260410T153724Z
UID:10006576-1807178400-1807185600@www.nwomcfs.ca
SUMMARY:Atikokan-Tea Talk and Trails
DESCRIPTION:
URL:https://www.nwomcfs.ca/events/atikokan-tea-talk-and-trails/2027-04-08/
LOCATION:NWOMCFS Atikokan\, 227 Marks Street\, Atikokan\, Ontario\, P0T 1C0\, Canada
CATEGORIES:Atikokan
ORGANIZER;CN="Cloey Brigham":MAILTO:Cloey.Brigham@nwomcfs.ca
END:VEVENT
BEGIN:VEVENT
DTSTART;TZID=America/Winnipeg:20270415T100000
DTEND;TZID=America/Winnipeg:20270415T120000
DTSTAMP:20260423T181441
CREATED:20260423T152932Z
LAST-MODIFIED:20260410T153724Z
UID:10006577-1807783200-1807790400@www.nwomcfs.ca
SUMMARY:Atikokan-Tea Talk and Trails
DESCRIPTION:
URL:https://www.nwomcfs.ca/events/atikokan-tea-talk-and-trails/2027-04-15/
LOCATION:NWOMCFS Atikokan\, 227 Marks Street\, Atikokan\, Ontario\, P0T 1C0\, Canada
CATEGORIES:Atikokan
ORGANIZER;CN="Cloey Brigham":MAILTO:Cloey.Brigham@nwomcfs.ca
END:VEVENT
BEGIN:VEVENT
DTSTART;TZID=America/Winnipeg:20270422T100000
DTEND;TZID=America/Winnipeg:20270422T120000
DTSTAMP:20260423T181441
CREATED:20260423T152932Z
LAST-MODIFIED:20260410T153724Z
UID:10006578-1808388000-1808395200@www.nwomcfs.ca
SUMMARY:Atikokan-Tea Talk and Trails
DESCRIPTION:
URL:https://www.nwomcfs.ca/events/atikokan-tea-talk-and-trails/2027-04-22/
LOCATION:NWOMCFS Atikokan\, 227 Marks Street\, Atikokan\, Ontario\, P0T 1C0\, Canada
CATEGORIES:Atikokan
ORGANIZER;CN="Cloey Brigham":MAILTO:Cloey.Brigham@nwomcfs.ca
END:VEVENT
BEGIN:VEVENT
DTSTART;TZID=America/Winnipeg:20270429T100000
DTEND;TZID=America/Winnipeg:20270429T120000
DTSTAMP:20260423T181441
CREATED:20260423T152932Z
LAST-MODIFIED:20260410T153724Z
UID:10006579-1808992800-1809000000@www.nwomcfs.ca
SUMMARY:Atikokan-Tea Talk and Trails
DESCRIPTION:
URL:https://www.nwomcfs.ca/events/atikokan-tea-talk-and-trails/2027-04-29/
LOCATION:NWOMCFS Atikokan\, 227 Marks Street\, Atikokan\, Ontario\, P0T 1C0\, Canada
CATEGORIES:Atikokan
ORGANIZER;CN="Cloey Brigham":MAILTO:Cloey.Brigham@nwomcfs.ca
END:VEVENT
BEGIN:VEVENT
DTSTART;TZID=America/Winnipeg:20270506T100000
DTEND;TZID=America/Winnipeg:20270506T120000
DTSTAMP:20260423T181441
CREATED:20260423T152932Z
LAST-MODIFIED:20260410T153724Z
UID:10006580-1809597600-1809604800@www.nwomcfs.ca
SUMMARY:Atikokan-Tea Talk and Trails
DESCRIPTION:
URL:https://www.nwomcfs.ca/events/atikokan-tea-talk-and-trails/2027-05-06/
LOCATION:NWOMCFS Atikokan\, 227 Marks Street\, Atikokan\, Ontario\, P0T 1C0\, Canada
CATEGORIES:Atikokan
ORGANIZER;CN="Cloey Brigham":MAILTO:Cloey.Brigham@nwomcfs.ca
END:VEVENT
BEGIN:VEVENT
DTSTART;TZID=America/Winnipeg:20270513T100000
DTEND;TZID=America/Winnipeg:20270513T120000
DTSTAMP:20260423T181441
CREATED:20260423T152932Z
LAST-MODIFIED:20260410T153724Z
UID:10006581-1810202400-1810209600@www.nwomcfs.ca
SUMMARY:Atikokan-Tea Talk and Trails
DESCRIPTION:
URL:https://www.nwomcfs.ca/events/atikokan-tea-talk-and-trails/2027-05-13/
LOCATION:NWOMCFS Atikokan\, 227 Marks Street\, Atikokan\, Ontario\, P0T 1C0\, Canada
CATEGORIES:Atikokan
ORGANIZER;CN="Cloey Brigham":MAILTO:Cloey.Brigham@nwomcfs.ca
END:VEVENT
END:VCALENDAR