BEGIN:VCALENDAR
VERSION:2.0
PRODID:-//Northwestern Ontario Métis Child and Family Services - ECPv6.15.13//NONSGML v1.0//EN
CALSCALE:GREGORIAN
METHOD:PUBLISH
X-WR-CALNAME:Northwestern Ontario Métis Child and Family Services
X-ORIGINAL-URL:https://www.nwomcfs.ca
X-WR-CALDESC:Events for Northwestern Ontario Métis Child and Family Services
REFRESH-INTERVAL;VALUE=DURATION:PT1H
X-Robots-Tag:noindex
X-PUBLISHED-TTL:PT1H
BEGIN:VTIMEZONE
TZID:America/Winnipeg
BEGIN:DAYLIGHT
TZOFFSETFROM:-0600
TZOFFSETTO:-0500
TZNAME:CDT
DTSTART:20250309T080000
END:DAYLIGHT
BEGIN:STANDARD
TZOFFSETFROM:-0500
TZOFFSETTO:-0600
TZNAME:CST
DTSTART:20251102T070000
END:STANDARD
BEGIN:DAYLIGHT
TZOFFSETFROM:-0600
TZOFFSETTO:-0500
TZNAME:CDT
DTSTART:20260308T080000
END:DAYLIGHT
BEGIN:STANDARD
TZOFFSETFROM:-0500
TZOFFSETTO:-0600
TZNAME:CST
DTSTART:20261101T070000
END:STANDARD
BEGIN:DAYLIGHT
TZOFFSETFROM:-0600
TZOFFSETTO:-0500
TZNAME:CDT
DTSTART:20270314T080000
END:DAYLIGHT
BEGIN:STANDARD
TZOFFSETFROM:-0500
TZOFFSETTO:-0600
TZNAME:CST
DTSTART:20271107T070000
END:STANDARD
END:VTIMEZONE
BEGIN:VEVENT
DTSTART;VALUE=DATE:20260401
DTEND;VALUE=DATE:20260501
DTSTAMP:20260423T123905
CREATED:20260326T152223Z
LAST-MODIFIED:20260402T211223Z
UID:10006491-1775001600-1777593599@www.nwomcfs.ca
SUMMARY:Atikokan - Avrii "April" Event Calendar
DESCRIPTION:
URL:https://www.nwomcfs.ca/events/atikokan-avrii-april-event-calendar/
LOCATION:Ontario
CATEGORIES:Atikokan
END:VEVENT
BEGIN:VEVENT
DTSTART;VALUE=DATE:20260401
DTEND;VALUE=DATE:20260501
DTSTAMP:20260423T123905
CREATED:20260326T152345Z
LAST-MODIFIED:20260402T211823Z
UID:10006492-1775001600-1777593599@www.nwomcfs.ca
SUMMARY:Dryden - Avrii "April" Event Calendar
DESCRIPTION:
URL:https://www.nwomcfs.ca/events/dryden-avrii-april-event-calendar/
LOCATION:Ontario
CATEGORIES:Dryden
END:VEVENT
BEGIN:VEVENT
DTSTART;VALUE=DATE:20260401
DTEND;VALUE=DATE:20260501
DTSTAMP:20260423T123905
CREATED:20260402T204919Z
LAST-MODIFIED:20260402T204919Z
UID:10006520-1775001600-1777593599@www.nwomcfs.ca
SUMMARY:Fort Frances-Events Calendar
DESCRIPTION:
URL:https://www.nwomcfs.ca/events/fort-frances-events-calendar/
LOCATION:Ontario
CATEGORIES:Fort Frances
END:VEVENT
BEGIN:VEVENT
DTSTART;TZID=America/Winnipeg:20260401T080000
DTEND;TZID=America/Winnipeg:20260430T170000
DTSTAMP:20260423T123905
CREATED:20260402T210435Z
LAST-MODIFIED:20260402T210435Z
UID:10006521-1775030400-1777568400@www.nwomcfs.ca
SUMMARY:Kenora - Event Calendar
DESCRIPTION:
URL:https://www.nwomcfs.ca/events/kenora-event-calendar/
LOCATION:Ontario
CATEGORIES:Kenora
END:VEVENT
BEGIN:VEVENT
DTSTART;VALUE=DATE:20260417
DTEND;VALUE=DATE:20261001
DTSTAMP:20260423T123905
CREATED:20260417T201327Z
LAST-MODIFIED:20260417T201327Z
UID:10006617-1776384000-1790812799@www.nwomcfs.ca
SUMMARY:Home Child Care Provider - If you need help with your application or would like to learn more about the Home Child Care Program\, please contact Early Learning & Child Care Partnerships team here:  homechildcare@metisnation.org
DESCRIPTION:
URL:https://www.nwomcfs.ca/events/home-child-care-provider-if-you-need-help-with-your-application-or-would-like-to-learn-more-about-the-home-child-care-program-please-contact-early-learning-child-care-partnerships-team-here-hom/
LOCATION:Ontario
END:VEVENT
BEGIN:VEVENT
DTSTART;TZID=America/Winnipeg:20260430T080000
DTEND;TZID=America/Winnipeg:20260430T120000
DTSTAMP:20260423T123905
CREATED:20260402T201524Z
LAST-MODIFIED:20260402T212508Z
UID:10006519-1777536000-1777550400@www.nwomcfs.ca
SUMMARY:Kenora- Join Your Métis Community for Drop in Beading!
DESCRIPTION:
URL:https://www.nwomcfs.ca/events/kenora-drop-in-beading/2026-04-30/
LOCATION:NWOMCFS Head Office\, 1301 Railway Street\, Kenora\, ON\, P9N 0B2\, Canada
CATEGORIES:Kenora
ORGANIZER;CN="Bailey Hicks":MAILTO:Bailey.Hicks@nwomcfs.ca
END:VEVENT
BEGIN:VEVENT
DTSTART;TZID=America/Winnipeg:20260430T150000
DTEND;TZID=America/Winnipeg:20260430T163000
DTSTAMP:20260423T123905
CREATED:20260319T212143Z
LAST-MODIFIED:20260409T204936Z
UID:10006481-1777561200-1777566600@www.nwomcfs.ca
SUMMARY:Fort Frances - KIDS After School Program - Postponed until June!
DESCRIPTION:
URL:https://www.nwomcfs.ca/events/fort-frances-kids-after-school-program-2/2026-04-30/
LOCATION:FFR NWOMCFS Office\, 815 Williams Ave\, Fort Frances\, ON\, Canada
CATEGORIES:Fort Frances
ORGANIZER;CN="Jasmine Neault":MAILTO:Jasmine.Neault@nwomcfs.ca
END:VEVENT
BEGIN:VEVENT
DTSTART;TZID=America/Winnipeg:20260430T153000
DTEND;TZID=America/Winnipeg:20260430T170000
DTSTAMP:20260423T123905
CREATED:20260319T050008Z
LAST-MODIFIED:20260318T161618Z
UID:10006460-1777563000-1777568400@www.nwomcfs.ca
SUMMARY:Dryden - Babysitting Course
DESCRIPTION:
URL:https://www.nwomcfs.ca/events/10387/2026-04-30/
LOCATION:NWOMCFS Dryden Office – New\, 45 King Street. Upper Level\, Dryden\, ON\, P8N 1B7\, Canada
CATEGORIES:Dryden
ORGANIZER;CN="Amanda Lupien":MAILTO:amanda,lupien@nwomcfs.ca
END:VEVENT
BEGIN:VEVENT
DTSTART;TZID=America/Winnipeg:20260430T153000
DTEND;TZID=America/Winnipeg:20260430T170000
DTSTAMP:20260423T123905
CREATED:20260422T141658Z
LAST-MODIFIED:20260422T143933Z
UID:10006628-1777563000-1777568400@www.nwomcfs.ca
SUMMARY:Atikokan - Mother's Day Cookie Decorating!
DESCRIPTION:
URL:https://www.nwomcfs.ca/events/atikokan-mothers-day-cookie-decorating/
LOCATION:Early On\, 324 Mercury Ave. - Side Enterance\, Atikokan\, ON\, Canada
CATEGORIES:Atikokan
ORGANIZER;CN="Cloey Brigham":MAILTO:Cloey.Brigham@nwomcfs.ca
END:VEVENT
END:VCALENDAR