BEGIN:VCALENDAR
VERSION:2.0
PRODID:-//Northwestern Ontario Métis Child and Family Services - ECPv6.15.13//NONSGML v1.0//EN
CALSCALE:GREGORIAN
METHOD:PUBLISH
X-ORIGINAL-URL:https://www.nwomcfs.ca
X-WR-CALDESC:Events for Northwestern Ontario Métis Child and Family Services
REFRESH-INTERVAL;VALUE=DURATION:PT1H
X-Robots-Tag:noindex
X-PUBLISHED-TTL:PT1H
BEGIN:VTIMEZONE
TZID:America/Winnipeg
BEGIN:DAYLIGHT
TZOFFSETFROM:-0600
TZOFFSETTO:-0500
TZNAME:CDT
DTSTART:20250309T080000
END:DAYLIGHT
BEGIN:STANDARD
TZOFFSETFROM:-0500
TZOFFSETTO:-0600
TZNAME:CST
DTSTART:20251102T070000
END:STANDARD
BEGIN:DAYLIGHT
TZOFFSETFROM:-0600
TZOFFSETTO:-0500
TZNAME:CDT
DTSTART:20260308T080000
END:DAYLIGHT
BEGIN:STANDARD
TZOFFSETFROM:-0500
TZOFFSETTO:-0600
TZNAME:CST
DTSTART:20261101T070000
END:STANDARD
BEGIN:DAYLIGHT
TZOFFSETFROM:-0600
TZOFFSETTO:-0500
TZNAME:CDT
DTSTART:20270314T080000
END:DAYLIGHT
BEGIN:STANDARD
TZOFFSETFROM:-0500
TZOFFSETTO:-0600
TZNAME:CST
DTSTART:20271107T070000
END:STANDARD
END:VTIMEZONE
BEGIN:VEVENT
DTSTART;VALUE=DATE:20260301
DTEND;VALUE=DATE:20260401
DTSTAMP:20260423T123545
CREATED:20260302T191107Z
LAST-MODIFIED:20260302T191107Z
UID:10006416-1772323200-1775001599@www.nwomcfs.ca
SUMMARY:Atikokan - Maar (March) Event Calendar
DESCRIPTION:
URL:https://www.nwomcfs.ca/events/atikokan-maar-march-event-calendar/
LOCATION:Ontario
CATEGORIES:Atikokan
END:VEVENT
BEGIN:VEVENT
DTSTART;VALUE=DATE:20260301
DTEND;VALUE=DATE:20260401
DTSTAMP:20260423T123545
CREATED:20260302T192649Z
LAST-MODIFIED:20260302T192649Z
UID:10006419-1772323200-1775001599@www.nwomcfs.ca
SUMMARY:We Need You!!  Are you seasoned at Crocheting or Kniting?
DESCRIPTION:
URL:https://www.nwomcfs.ca/events/we-need-you-are-you-seasoned-at-crocheting-or-kniting/
LOCATION:FFR NWOMCFS Office\, 815 Williams Ave\, Fort Frances\, ON\, Canada
CATEGORIES:Fort Frances
ORGANIZER;CN="Emily Hyatt":MAILTO:Emily.Hyatt@nwomcfs.ca
END:VEVENT
BEGIN:VEVENT
DTSTART;VALUE=DATE:20260301
DTEND;VALUE=DATE:20260401
DTSTAMP:20260423T123545
CREATED:20260306T201027Z
LAST-MODIFIED:20260306T203354Z
UID:10006444-1772323200-1775001599@www.nwomcfs.ca
SUMMARY:Kenora - Maars (March) 2026 Event Calendar
DESCRIPTION:
URL:https://www.nwomcfs.ca/events/10279/
LOCATION:Ontario
CATEGORIES:Kenora
END:VEVENT
BEGIN:VEVENT
DTSTART;VALUE=DATE:20260330
DTEND;VALUE=DATE:20260331
DTSTAMP:20260423T123545
CREATED:20260319T140602Z
LAST-MODIFIED:20260319T140602Z
UID:10006476-1774828800-1774915199@www.nwomcfs.ca
SUMMARY:Atikokan - Closed for Staff Training on Monday\, March 30th\, 2026
DESCRIPTION:
URL:https://www.nwomcfs.ca/events/atikokan-closed-for-staff-training-on-monday-march-30th-2026/
LOCATION:NWOMCFS Atikokan\, 227 Marks Street\, Atikokan\, Ontario\, P0T 1C0\, Canada
CATEGORIES:Atikokan
END:VEVENT
BEGIN:VEVENT
DTSTART;VALUE=DATE:20260330
DTEND;VALUE=DATE:20260406
DTSTAMP:20260423T123545
CREATED:20260330T190742Z
LAST-MODIFIED:20260330T190742Z
UID:10006498-1774828800-1775433599@www.nwomcfs.ca
SUMMARY:Michif Word of the Week: KATAWASHISHIW "Beautiful"
DESCRIPTION:
URL:https://www.nwomcfs.ca/events/michif-word-of-the-week-katawashishiw-beautiful/
LOCATION:Ontario
CATEGORIES:Atikokan,Dryden,Fort Frances,Kenora
END:VEVENT
BEGIN:VEVENT
DTSTART;TZID=America/Winnipeg:20260330T100000
DTEND;TZID=America/Winnipeg:20260330T110000
DTSTAMP:20260423T123545
CREATED:20260219T060012Z
LAST-MODIFIED:20260107T161359Z
UID:10006317-1774864800-1774868400@www.nwomcfs.ca
SUMMARY:Dryden - Métis Families - Tot Corner
DESCRIPTION:
URL:https://www.nwomcfs.ca/events/dryden-metis-families-tot-corner/2026-03-30/
LOCATION:NWOMCFS Dryden Office – New\, 45 King Street. Upper Level\, Dryden\, ON\, P8N 1B7\, Canada
CATEGORIES:Dryden
ORGANIZER;CN="Amanda Lupien":MAILTO:amanda,lupien@nwomcfs.ca
END:VEVENT
BEGIN:VEVENT
DTSTART;TZID=America/Winnipeg:20260330T130000
DTEND;TZID=America/Winnipeg:20260330T150000
DTSTAMP:20260423T123545
CREATED:20260316T050022Z
LAST-MODIFIED:20260305T170803Z
UID:10006443-1774875600-1774882800@www.nwomcfs.ca
SUMMARY:Kenora - Join your Métis Community for Afternoon Senior Tea & Cribbage
DESCRIPTION:
URL:https://www.nwomcfs.ca/events/kenora-join-your-metis-community-for-afternoon-senior-tea-cribbage/
LOCATION:NWOMCFS Head Office\, 1301 Railway Street\, Kenora\, ON\, P9N 0B2\, Canada
CATEGORIES:Kenora
ORGANIZER;CN="Brittany Bowman":MAILTO:Brittany.Bowman@nwomcfs.ca
END:VEVENT
BEGIN:VEVENT
DTSTART;TZID=America/Winnipeg:20260330T153000
DTEND;TZID=America/Winnipeg:20260330T163000
DTSTAMP:20260423T123545
CREATED:20250925T050022Z
LAST-MODIFIED:20250818T143753Z
UID:10005421-1774884600-1774888200@www.nwomcfs.ca
SUMMARY:Dryden - Métis Tween Club - Welcome back to learning\, creating & interacting
DESCRIPTION:
URL:https://www.nwomcfs.ca/events/dryden-metis-tween-club-welcome-back-to-learning-creating-interacting/2026-03-30/
LOCATION:NWOMCFS Dryden Office – New\, 45 King Street. Upper Level\, Dryden\, ON\, P8N 1B7\, Canada
CATEGORIES:Dryden
ORGANIZER;CN="Amanda Lupien":MAILTO:amanda,lupien@nwomcfs.ca
END:VEVENT
BEGIN:VEVENT
DTSTART;TZID=America/Winnipeg:20260330T153000
DTEND;TZID=America/Winnipeg:20260330T163000
DTSTAMP:20260423T123545
CREATED:20260221T060016Z
LAST-MODIFIED:20260107T163235Z
UID:10006328-1774884600-1774888200@www.nwomcfs.ca
SUMMARY:Dryden - Métis Tween Club
DESCRIPTION:
URL:https://www.nwomcfs.ca/events/dryden-metis-tween-club-3/2026-03-30/
LOCATION:NWOMCFS Dryden Office – New\, 45 King Street. Upper Level\, Dryden\, ON\, P8N 1B7\, Canada
CATEGORIES:Dryden
ORGANIZER;CN="Amanda Lupien":MAILTO:amanda,lupien@nwomcfs.ca
END:VEVENT
END:VCALENDAR